Workbook

Sheet Ürün Veri
A1: ÜRÜN NO | B1: ÜRÜN ADI | C1: KALIP NO | D1: KALIP GÖZ ADEDİ | E1: ÇEVRİM SÜRESİ (sn)
A2: Y-MT-052 | B2: KARE DİŞ FIRÇALIK KAPAK KROM | C2: YM311 | D2: 4 | E2: 30
A3: Y-MT-052-1 | B3: KARE DİŞ FIRÇALIK KAPAK BAKIR | C3: YM311 | D3: 4 | E3: 30
A4: Y-MT-052-2 | B4: KARE DİŞ FIRÇALIK KAPAK GOLD | C4: YM311 | D4: 4 | E4: 30
A5: Y-MT-052-3 | B5: KARE DİŞ FIRÇALIK KAPAK AHŞAP | C5: YM311 | D5: 4 | E5: 30
A6: Y-MT-052-S | B6: KARE DİŞ FIRÇALIK KAPAK SİYAH | C6: YM311 | D6: 4 | E6: 30
A7: Y-MT-052-B | B7: KARE DİŞ FIRÇALIK KAPAK BEYAZ | C7: YM311 | D7: 4 | E7: 30
A8: Y-MT-052-A | B8: KARE DİŞ FIRÇALIK KAPAK ANTRASİT | C8: YM311 | D8: 4 | E8: 30
A9: Y-MT-052-K | B9: KARE DİŞ FIRÇALIK KAPAK KAHVE | C9: YM311 | D9: 4 | E9: 30
A10: Y-MT-052-N | B10: KARE DİŞ FIRÇALIK KAPAK NATÜREL | C10: YM311 | D10: 4 | E10: 30
A11: Y-MT-052-M | B11: KARE DİŞ FIRÇALIK KAPAK MERMER | C11: YM311 | D11: 4 | E11: 30
A12: Y-MT-056 | B12: WC FIRÇA KARE ÜST ÇİFT BASKILI KROM | C12: YM 320 | D12: 2 | E12: 45
A13: Y-MT-056-1 | B13: WC FIRÇA KARE ÜST ÇİFT BASKILI BAKIR | C13: YM 320 | D13: 2 | E13: 45
... A338: YUVARLAK KAPAK-M | B338: YUVARLAK ÇÖP KAVASI KAPAK MERMER | C338: YM 478 | D338: 2 | E338: 36

Sheet Resmi Tatiller
A1: Resmi Tatil Tarihi | B1: Açıklama
A2: 46023 | B2: Yılbaşı
A3: 46100 | B3: Ramazan Bayramı Arifesi
A4: 46101 | B4: Ramazan Bayramı 1. Gün
A5: 46102 | B5: Ramazan Bayramı 2. Gün
A6: 46103 | B6: Ramazan Bayramı 3. Gün
A7: 46135 | B7: 23 Nisan
A8: 46143 | B8: Emek ve Dayanışma Günü
A9: 46161 | B9: 19 Mayıs
A10: 46168 | B10: Kurban Bayramı Arifesi
A11: 46169 | B11: Kurban Bayramı 1. Gün
A12: 46170 | B12: Kurban Bayramı 2. Gün
A13: 46171 | B13: Kurban Bayramı 3. Gün
... A17: 46324 | B17: 29 Ekim

Sheet Boya Kodu
A1: Boya Kodu | B1: Açıklama
A2: STD | B2: Standart
A3: SİYAH | B3: Siyah
A4: BEYAZ | B4: Beyaz
A5: YEŞİL | B5: Yeşil
A6: KROM | B6: Krom
A7: BAKIR | B7: Bakır
A8: GOLD | B8: Gold
A9: AHŞAP | B9: Ahşap
A10: MERMER | B10: Mermer

Sheet MAKİNE 1
A1: MAKİNE 1 ÜRETİM PLANLAMA
A2: Sıra | B2: Ürün Kodu | C2: Ürün Adı | D2: Kalıp No | E2: Göz | F2: Çevrim (sn) | G2: Adet | H2: Boya Kodu | I2: Günlük Brüt Saat | J2: Yemek Molası (dk) | K2: Çay Molası (dk) | L2: Net Saat/Gün | M2: Hafta Sonu | N2: Başlangıç Tarihi | O2: Başlangıç Saati | P2: Üretim Süresi (saat) | Q2: Üretim Günü | R2: Bitiş Tarihi | S2: Bitiş Saati | T2: Durum | U2: Net Dk/Gün | V2: Hafta Kodu | W2: Norm Baş. Tarih | X2: Baş. İş Dk | Y2: Süre Dk | Z2: Toplam Dk | AA2: Ek Gün | AB2: Bitiş İş Dk | AC2: Bitiş DT | AD2: Vardiya Tipi | AE2: Ham Başlangıç | AF2: Ham Tarih | AG2: Ham Saat | AH2: İş Günü | AI2: Düzeltilmiş Başlangıç | AJ2: Gündüz Başlangıç | AK2: 12 Saat Başlangıç | AL2: 2 Vardiya Başlangıç
A3: =IF($B3="","",ROW()-2) -> 1 | B3: YUVARLAK KAPAK-3 | C3: =IFERROR(VLOOKUP(B3,'Ürün Veri'!$A:$E,2,FALSE),"") -> YUVARLAK ÇÖP KAVASI KAPAK AHŞAP | D3: =IFERROR(VLOOKUP(B3,'Ürün Veri'!$A:$E,3,FALSE),"") -> YM 478 | E3: =IFERROR(VLOOKUP(B3,'Ürün Veri'!$A:$E,4,FALSE),"") -> 2 | F3: =IFERROR(VLOOKUP(B3,'Ürün Veri'!$A:$E,5,FALSE),"") -> 36 | G3: 3600 | I3: 12 | J3: =IF($I3="","",IF(VALUE($I3)=24,90,45)) -> 45 | K3: =IF($I3="","",IF(VALUE($I3)=24,30,15)) -> 15 | L3: =IF($I3="","",VALUE($I3)-($J3+$K3)/60) -> 11 | M3: Çalışmaz | N3: 46146 | O3: 0.33333333 | P3: =IF(OR(E3="",F3="",G3="",E3=0),"",G3/E3*F3/3600) -> 18 | Q3: =IF(OR(P3="",L3="",L3=0),"",P3/L3) -> 1.6363636 | R3: =IF(AB3="","",WORKDAY.INTL(W3,AA3,V3,'Resmi Tatiller'!$A$2:$A$17)) -> 46147 | S3: =IF(AB3="","",IF($AD3="24 Saat",AB3/1440,IF($AD3="12 Saat",IF(AB3<=240,TIME(8,0,0)+AB3/1440,IF(AB3<=375,TIME(12,45,0)+(AB3-240)/1440,TIME(15,15,0)+(AB3-375)/1440)),IF($AD3="2 Vardiya",IF(AB3<=240,TIME(8,0,0)+AB3/1440,IF(AB3<=375,TIME(12,45,0)+(AB3-240)/1440,IF(AB3<=540,TIME(15,15,0)+(AB3-375)/1440,IF(AB3<=780,TIME(20,0,0)+(AB3-540)/1440,IF(AB3<=915,1+TIME(0,45,0)+(AB3-780)/1440,1+TIME(3,15,0)+(AB3-915)/1440))))),IF(AB3<=240,TIME(8,0,0)+AB3/1440,IF(AB3<=375,TIME(12,45,0)+(AB3-240)/1440,TIME(15,15,0)+(AB3-375)/1440)))))) -> 0.66666667 | T3: =IF(B3="","Boş",IF(OR(G3="",N3="",O3=""),"Eksik",IF(OR(R3="",S3=""),"Kontrol","Planlandı"))) -> Planlandı | U3: =IF($AD3="24 Saat",1440,IF($AD3="2 Vardiya",1080,IF($AD3="12 Saat",660,IF($AD3="Gündüz",540,IF(L3="","",L3*60))))) -> 660 | V3: =IF(M3="Çalışmaz","0000011","0000000") -> 0000011 | W3: =IF(OR(N3="",O3=""),"",IF($AD3="24 Saat",N3,IF($AD3="12 Saat",IF(O3>=TIME(20,0,0),WORKDAY.INTL(N3,1,V3,'Resmi Tatiller'!$A$2:$A$17),WORKDAY.INTL(N3-1,1,V3,'Resmi Tatiller'!$A$2:$A$17)),IF($AD3="2 Vardiya",IF(O3<TIME(6,0,0),N3-1,IF(O3<TIME(8,0,0),WORKDAY.INTL(N3-1,1,V3,'Resmi Tatiller'!$A$2:$A$17),N3)),IF(O3>=TIME(18,0,0),WORKDAY.INTL(N3,1,V3,'Resmi Tatiller'!$A$2:$A$17),WORKDAY.INTL(N3-1,1,V3,'Resmi Tatiller'!$A$2:$A$17)))))) -> 46146 | X3: =IF(W3="","",IF($AD3="24 Saat",MOD(O3,1)*1440,IF($AD3="12 Saat",IF(W3<>N3,0,IF(O3<TIME(8,0,0),0,IF(O3<TIME(12,0,0),(O3-TIME(8,0,0))*1440,IF(O3<TIME(12,45,0),240,IF(O3<TIME(15,0,0),240+(O3-TIME(12,45,0))*1440,IF(O3<TIME(15,15,0),375,IF(O3<TIME(20,0,0),375+(O3-TIME(15,15,0))*1440,0))))))),IF($AD3="2 Vardiya",IF(O3<TIME(6,0,0),IF(O3<TIME(0,45,0),780,IF(O3<TIME(3,0,0),780+(O3-TIME(0,45,0))*1440,IF(O3<TIME(3,15,0),915,915+(O3-TIME(3,15,0))*1440))),IF(O3<TIME(8,0,0),0,IF(O3<TIME(12,0,0),(O3-TIME(8,0,0))*1440,IF(O3<TIME(12,45,0),240,IF(O3<TIME(15,0,0),240+(O3-TIME(12,45,0))*1440,IF(O3<TIME(15,15,0),375,IF(O3<TIME(18,0,0),375+(O3-TIME(15,15,0))*1440,IF(O3<TIME(20,0,0),540,540+(O3-TIME(20,0,0))*1440)))))))),IF(W3<>N3,0,IF(O3<TIME(8,0,0),0,IF(O3<TIME(12,0,0),(O3-TIME(8,0,0))*1440,IF(O3<TIME(12,45,0),240,IF(O3<TIME(15,0,0),240+(O3-TIME(12,45,0))*1440,IF(O3<TIME(15,15,0),375,IF(O3<TIME(18,0,0),375+(O3-TIME(15,15,0))*1440,0))))))))))) -> 0 | Y3: =IF(P3="","",ROUNDUP(P3*60,0)) -> 1080 | Z3: =IF(Y3="","",N(X3)+Y3) -> 1080 | AA3: =IF(OR(Z3="",U3="",U3=0),"",INT((Z3-1)/U3)) -> 1 | AB3: =IF(OR(Z3="",U3="",U3=0),"",MOD(Z3-1,U3)+1) -> 420 | AC3: =IF(AB3="","",R3+S3) -> 46147.667 | AD3: =IF($I3="","",IF(VALUE($I3)=10,"Gündüz",IF(VALUE($I3)=12,"12 Saat",IF(VALUE($I3)=24,"2 Vardiya","")))) -> 12 Saat
A4: =IF($B4="","",ROW()-2) -> 2 | B4: Y-MT-167-S | C4: =IFERROR(VLOOKUP(B4,'Ürün Veri'!$A:$E,2,FALSE),"") -> KARE BAMBU SIVI SABUNLUK KAPAK SİYAH | D4: =IFERROR(VLOOKUP(B4,'Ürün Veri'!$A:$E,3,FALSE),"") -> YM 549 | E4: =IFERROR(VLOOKUP(B4,'Ürün Veri'!$A:$E,4,FALSE),"") -> 4 | F4: =IFERROR(VLOOKUP(B4,'Ürün Veri'!$A:$E,5,FALSE),"") -> 35 | G4: 30000 | I4: 12 | J4: =IF($I4="","",IF(VALUE($I4)=24,90,45)) -> 45 | K4: =IF($I4="","",IF(VALUE($I4)=24,30,15)) -> 15 | L4: =IF($I4="","",VALUE($I4)-($J4+$K4)/60) -> 11 | M4: Çalışmaz | N4: =IF(AI4="","",INT(AI4)) -> 46147 | O4: =IF(AI4="","",MOD(AI4,1)) -> 0.70833333 | P4: =IF(OR(E4="",F4="",G4="",E4=0),"",G4/E4*F4/3600) -> 72.916667 | Q4: =IF(OR(P4="",L4="",L4=0),"",P4/L4) -> 6.6287879 | R4: =IF(AB4="","",WORKDAY.INTL(W4,AA4,V4,'Resmi Tatiller'!$A$2:$A$17)) -> 46156 | S4: =IF(AB4="","",IF($AD4="24 Saat",AB4/1440,IF($AD4="12 Saat",IF(AB4<=240,TIME(8,0,0)+AB4/1440,IF(AB4<=375,TIME(12,45,0)+(AB4-240)/1440,TIME(15,15,0)+(AB4-375)/1440)),IF($AD4="2 Vardiya",IF(AB4<=240,TIME(8,0,0)+AB4/1440,IF(AB4<=375,TIME(12,45,0)+(AB4-240)/1440,IF(AB4<=540,TIME(15,15,0)+(AB4-375)/1440,IF(AB4<=780,TIME(20,0,0)+(AB4-540)/1440,IF(AB4<=915,1+TIME(0,45,0)+(AB4-780)/1440,1+TIME(3,15,0)+(AB4-915)/1440))))),IF(AB4<=240,TIME(8,0,0)+AB4/1440,IF(AB4<=375,TIME(12,45,0)+(AB4-240)/1440,TIME(15,15,0)+(AB4-375)/1440)))))) -> 0.49652778 | T4: =IF(B4="","Boş",IF(OR(G4="",N4="",O4=""),"Eksik",IF(OR(R4="",S4=""),"Kontrol","Planlandı"))) -> Planlandı | U4: =IF($AD4="24 Saat",1440,IF($AD4="2 Vardiya",1080,IF($AD4="12 Saat",660,IF($AD4="Gündüz",540,IF(L4="","",L4*60))))) -> 660 | V4: =IF(M4="Çalışmaz","0000011","0000000") -> 0000011 | W4: =IF(OR(N4="",O4=""),"",IF($AD4="24 Saat",N4,IF($AD4="12 Saat",IF(O4>=TIME(20,0,0),WORKDAY.INTL(N4,1,V4,'Resmi Tatiller'!$A$2:$A$17),WORKDAY.INTL(N4-1,1,V4,'Resmi Tatiller'!$A$2:$A$17)),IF($AD4="2 Vardiya",IF(O4<TIME(6,0,0),N4-1,IF(O4<TIME(8,0,0),WORKDAY.INTL(N4-1,1,V4,'Resmi Tatiller'!$A$2:$A$17),N4)),IF(O4>=TIME(18,0,0),WORKDAY.INTL(N4,1,V4,'Resmi Tatiller'!$A$2:$A$17),WORKDAY.INTL(N4-1,1,V4,'Resmi Tatiller'!$A$2:$A$17)))))) -> 46147 | X4: =IF(W4="","",IF($AD4="24 Saat",MOD(O4,1)*1440,IF($AD4="12 Saat",IF(W4<>N4,0,IF(O4<TIME(8,0,0),0,IF(O4<TIME(12,0,0),(O4-TIME(8,0,0))*1440,IF(O4<TIME(12,45,0),240,IF(O4<TIME(15,0,0),240+(O4-TIME(12,45,0))*1440,IF(O4<TIME(15,15,0),375,IF(O4<TIME(20,0,0),375+(O4-TIME(15,15,0))*1440,0))))))),IF($AD4="2 Vardiya",IF(O4<TIME(6,0,0),IF(O4<TIME(0,45,0),780,IF(O4<TIME(3,0,0),780+(O4-TIME(0,45,0))*1440,IF(O4<TIME(3,15,0),915,915+(O4-TIME(3,15,0))*1440))),IF(O4<TIME(8,0,0),0,IF(O4<TIME(12,0,0),(O4-TIME(8,0,0))*1440,IF(O4<TIME(12,45,0),240,IF(O4<TIME(15,0,0),240+(O4-TIME(12,45,0))*1440,IF(O4<TIME(15,15,0),375,IF(O4<TIME(18,0,0),375+(O4-TIME(15,15,0))*1440,IF(O4<TIME(20,0,0),540,540+(O4-TIME(20,0,0))*1440)))))))),IF(W4<>N4,0,IF(O4<TIME(8,0,0),0,IF(O4<TIME(12,0,0),(O4-TIME(8,0,0))*1440,IF(O4<TIME(12,45,0),240,IF(O4<TIME(15,0,0),240+(O4-TIME(12,45,0))*1440,IF(O4<TIME(15,15,0),375,IF(O4<TIME(18,0,0),375+(O4-TIME(15,15,0))*1440,0))))))))))) -> 480 | Y4: =IF(P4="","",ROUNDUP(P4*60,0)) -> 4375 | Z4: =IF(Y4="","",N(X4)+Y4) -> 4855 | AA4: =IF(OR(Z4="",U4="",U4=0),"",INT((Z4-1)/U4)) -> 7 | AB4: =IF(OR(Z4="",U4="",U4=0),"",MOD(Z4-1,U4)+1) -> 235 | AC4: =IF(AB4="","",R4+S4) -> 46156.497 | AD4: =IF($I4="","",IF(VALUE($I4)=10,"Gündüz",IF(VALUE($I4)=12,"12 Saat",IF(VALUE($I4)=24,"2 Vardiya","")))) -> 12 Saat | AE4: =IF(B4="","",IF(AC3="","",AC3+1/24)) -> 46147.708 | AF4: =IF(AE4="","",INT(AE4)) -> 46147 | AG4: =IF(AE4="","",MOD(AE4,1)) -> 0.70833333 | AH4: =IF(AF4="","",WORKDAY.INTL(AF4-1,1,V4,'Resmi Tatiller'!$A$2:$A$17)) -> 46147 | AI4: =IF(AE4="","",IF($AD4="24 Saat",AE4,IF($AD4="Gündüz",AJ4,IF($AD4="12 Saat",AK4,IF($AD4="2 Vardiya",AL4,AE4))))) -> 46147.708 | AJ4: =IF(AE4="","",IF(AH4<>AF4,AH4+TIME(8,0,0),IF(AG4<TIME(8,0,0),AF4+TIME(8,0,0),IF(AG4<TIME(12,0,0),AE4,IF(AG4<TIME(12,45,0),AF4+TIME(12,45,0),IF(AG4<TIME(15,0,0),AE4,IF(AG4<TIME(15,15,0),AF4+TIME(15,15,0),IF(AG4<TIME(18,0,0),AE4,WORKDAY.INTL(AF4,1,V4,'Resmi Tatiller'!$A$2:$A$17)+TIME(8,0,0))))))))) -> 46147.708 | AK4: =IF(AE4="","",IF(AH4<>AF4,AH4+TIME(8,0,0),IF(AG4<TIME(8,0,0),AF4+TIME(8,0,0),IF(AG4<TIME(12,0,0),AE4,IF(AG4<TIME(12,45,0),AF4+TIME(12,45,0),IF(AG4<TIME(15,0,0),AE4,IF(AG4<TIME(15,15,0),AF4+TIME(15,15,0),IF(AG4<TIME(20,0,0),AE4,WORKDAY.INTL(AF4,1,V4,'Resmi Tatiller'!$A$2:$A$17)+TIME(8,0,0))))))))) -> 46147.708 | AL4: =IF(AE4="","",IF(AG4<TIME(6,0,0),IF(AG4<TIME(0,45,0),AF4+TIME(0,45,0),IF(AG4<TIME(3,0,0),AE4,IF(AG4<TIME(3,15,0),AF4+TIME(3,15,0),AE4))),IF(AG4<TIME(8,0,0),AF4+TIME(8,0,0),IF(AG4<TIME(12,0,0),AE4,IF(AG4<TIME(12,45,0),AF4+TIME(12,45,0),IF(AG4<TIME(15,0,0),AE4,IF(AG4<TIME(15,15,0),AF4+TIME(15,15,0),IF(AG4<TIME(18,0,0),AE4,IF(AG4<TIME(20,0,0),AF4+TIME(20,0,0),IF(AH4<>AF4,AH4+TIME(8,0,0),AE4)))))))))) -> 46147.708
A5: =IF($B5="","",ROW()-2) -> 3 | B5: Y-MT-135-Y | C5: =IFERROR(VLOOKUP(B5,'Ürün Veri'!$A:$E,2,FALSE),"") -> Ç.KOV.KARE.ÇITÇIT ÇEMBER YEŞİL | D5: =IFERROR(VLOOKUP(B5,'Ürün Veri'!$A:$E,3,FALSE),"") -> YM 479 | E5: =IFERROR(VLOOKUP(B5,'Ürün Veri'!$A:$E,4,FALSE),"") -> 2 | F5: =IFERROR(VLOOKUP(B5,'Ürün Veri'!$A:$E,5,FALSE),"") -> 38 | G5: 1500 | I5: 12 | J5: =IF($I5="","",IF(VALUE($I5)=24,90,45)) -> 45 | K5: =IF($I5="","",IF(VALUE($I5)=24,30,15)) -> 15 | L5: =IF($I5="","",VALUE($I5)-($J5+$K5)/60) -> 11 | M5: Çalışmaz | N5: =IF(AI5="","",INT(AI5)) -> 46156 | O5: =IF(AI5="","",MOD(AI5,1)) -> 0.53819444 | P5: =IF(OR(E5="",F5="",G5="",E5=0),"",G5/E5*F5/3600) -> 7.9166667 | Q5: =IF(OR(P5="",L5="",L5=0),"",P5/L5) -> 0.71969697 | R5: =IF(AB5="","",WORKDAY.INTL(W5,AA5,V5,'Resmi Tatiller'!$A$2:$A$17)) -> 46157 | S5: =IF(AB5="","",IF($AD5="24 Saat",AB5/1440,IF($AD5="12 Saat",IF(AB5<=240,TIME(8,0,0)+AB5/1440,IF(AB5<=375,TIME(12,45,0)+(AB5-240)/1440,TIME(15,15,0)+(AB5-375)/1440)),IF($AD5="2 Vardiya",IF(AB5<=240,TIME(8,0,0)+AB5/1440,IF(AB5<=375,TIME(12,45,0)+(AB5-240)/1440,IF(AB5<=540,TIME(15,15,0)+(AB5-375)/1440,IF(AB5<=780,TIME(20,0,0)+(AB5-540)/1440,IF(AB5<=915,1+TIME(0,45,0)+(AB5-780)/1440,1+TIME(3,15,0)+(AB5-915)/1440))))),IF(AB5<=240,TIME(8,0,0)+AB5/1440,IF(AB5<=375,TIME(12,45,0)+(AB5-240)/1440,TIME(15,15,0)+(AB5-375)/1440)))))) -> 0.37847222 | T5: =IF(B5="","Boş",IF(OR(G5="",N5="",O5=""),"Eksik",IF(OR(R5="",S5=""),"Kontrol","Planlandı"))) -> Planlandı | U5: =IF($AD5="24 Saat",1440,IF($AD5="2 Vardiya",1080,IF($AD5="12 Saat",660,IF($AD5="Gündüz",540,IF(L5="","",L5*60))))) -> 660 | V5: =IF(M5="Çalışmaz","0000011","0000000") -> 0000011 | W5: =IF(OR(N5="",O5=""),"",IF($AD5="24 Saat",N5,IF($AD5="12 Saat",IF(O5>=TIME(20,0,0),WORKDAY.INTL(N5,1,V5,'Resmi Tatiller'!$A$2:$A$17),WORKDAY.INTL(N5-1,1,V5,'Resmi Tatiller'!$A$2:$A$17)),IF($AD5="2 Vardiya",IF(O5<TIME(6,0,0),N5-1,IF(O5<TIME(8,0,0),WORKDAY.INTL(N5-1,1,V5,'Resmi Tatiller'!$A$2:$A$17),N5)),IF(O5>=TIME(18,0,0),WORKDAY.INTL(N5,1,V5,'Resmi Tatiller'!$A$2:$A$17),WORKDAY.INTL(N5-1,1,V5,'Resmi Tatiller'!$A$2:$A$17)))))) -> 46156 | X5: =IF(W5="","",IF($AD5="24 Saat",MOD(O5,1)*1440,IF($AD5="12 Saat",IF(W5<>N5,0,IF(O5<TIME(8,0,0),0,IF(O5<TIME(12,0,0),(O5-TIME(8,0,0))*1440,IF(O5<TIME(12,45,0),240,IF(O5<TIME(15,0,0),240+(O5-TIME(12,45,0))*1440,IF(O5<TIME(15,15,0),375,IF(O5<TIME(20,0,0),375+(O5-TIME(15,15,0))*1440,0))))))),IF($AD5="2 Vardiya",IF(O5<TIME(6,0,0),IF(O5<TIME(0,45,0),780,IF(O5<TIME(3,0,0),780+(O5-TIME(0,45,0))*1440,IF(O5<TIME(3,15,0),915,915+(O5-TIME(3,15,0))*1440))),IF(O5<TIME(8,0,0),0,IF(O5<TIME(12,0,0),(O5-TIME(8,0,0))*1440,IF(O5<TIME(12,45,0),240,IF(O5<TIME(15,0,0),240+(O5-TIME(12,45,0))*1440,IF(O5<TIME(15,15,0),375,IF(O5<TIME(18,0,0),375+(O5-TIME(15,15,0))*1440,IF(O5<TIME(20,0,0),540,540+(O5-TIME(20,0,0))*1440)))))))),IF(W5<>N5,0,IF(O5<TIME(8,0,0),0,IF(O5<TIME(12,0,0),(O5-TIME(8,0,0))*1440,IF(O5<TIME(12,45,0),240,IF(O5<TIME(15,0,0),240+(O5-TIME(12,45,0))*1440,IF(O5<TIME(15,15,0),375,IF(O5<TIME(18,0,0),375+(O5-TIME(15,15,0))*1440,0))))))))))) -> 250 | Y5: =IF(P5="","",ROUNDUP(P5*60,0)) -> 475 | Z5: =IF(Y5="","",N(X5)+Y5) -> 725 | AA5: =IF(OR(Z5="",U5="",U5=0),"",INT((Z5-1)/U5)) -> 1 | AB5: =IF(OR(Z5="",U5="",U5=0),"",MOD(Z5-1,U5)+1) -> 65 | AC5: =IF(AB5="","",R5+S5) -> 46157.378 | AD5: =IF($I5="","",IF(VALUE($I5)=10,"Gündüz",IF(VALUE($I5)=12,"12 Saat",IF(VALUE($I5)=24,"2 Vardiya","")))) -> 12 Saat | AE5: =IF(B5="","",IF(AC4="","",AC4+1/24)) -> 46156.538 | AF5: =IF(AE5="","",INT(AE5)) -> 46156 | AG5: =IF(AE5="","",MOD(AE5,1)) -> 0.53819444 | AH5: =IF(AF5="","",WORKDAY.INTL(AF5-1,1,V5,'Resmi Tatiller'!$A$2:$A$17)) -> 46156 | AI5: =IF(AE5="","",IF($AD5="24 Saat",AE5,IF($AD5="Gündüz",AJ5,IF($AD5="12 Saat",AK5,IF($AD5="2 Vardiya",AL5,AE5))))) -> 46156.538 | AJ5: =IF(AE5="","",IF(AH5<>AF5,AH5+TIME(8,0,0),IF(AG5<TIME(8,0,0),AF5+TIME(8,0,0),IF(AG5<TIME(12,0,0),AE5,IF(AG5<TIME(12,45,0),AF5+TIME(12,45,0),IF(AG5<TIME(15,0,0),AE5,IF(AG5<TIME(15,15,0),AF5+TIME(15,15,0),IF(AG5<TIME(18,0,0),AE5,WORKDAY.INTL(AF5,1,V5,'Resmi Tatiller'!$A$2:$A$17)+TIME(8,0,0))))))))) -> 46156.538 | AK5: =IF(AE5="","",IF(AH5<>AF5,AH5+TIME(8,0,0),IF(AG5<TIME(8,0,0),AF5+TIME(8,0,0),IF(AG5<TIME(12,0,0),AE5,IF(AG5<TIME(12,45,0),AF5+TIME(12,45,0),IF(AG5<TIME(15,0,0),AE5,IF(AG5<TIME(15,15,0),AF5+TIME(15,15,0),IF(AG5<TIME(20,0,0),AE5,WORKDAY.INTL(AF5,1,V5,'Resmi Tatiller'!$A$2:$A$17)+TIME(8,0,0))))))))) -> 46156.538 | AL5: =IF(AE5="","",IF(AG5<TIME(6,0,0),IF(AG5<TIME(0,45,0),AF5+TIME(0,45,0),IF(AG5<TIME(3,0,0),AE5,IF(AG5<TIME(3,15,0),AF5+TIME(3,15,0),AE5))),IF(AG5<TIME(8,0,0),AF5+TIME(8,0,0),IF(AG5<TIME(12,0,0),AE5,IF(AG5<TIME(12,45,0),AF5+TIME(12,45,0),IF(AG5<TIME(15,0,0),AE5,IF(AG5<TIME(15,15,0),AF5+TIME(15,15,0),IF(AG5<TIME(18,0,0),AE5,IF(AG5<TIME(20,0,0),AF5+TIME(20,0,0),IF(AH5<>AF5,AH5+TIME(8,0,0),AE5)))))))))) -> 46156.538
A6: =IF($B6="","",ROW()-2) -> 4 | B6: Y-MT-126-CK | C6: =IFERROR(VLOOKUP(B6,'Ürün Veri'!$A:$E,2,FALSE),"") -> DİAMOND SIVI SABUNLUK POMPA COLİSEUM KAHVE | D6: =IFERROR(VLOOKUP(B6,'Ürün Veri'!$A:$E,3,FALSE),"") -> YM 513 | E6: =IFERROR(VLOOKUP(B6,'Ürün Veri'!$A:$E,4,FALSE),"") -> 8 | F6: =IFERROR(VLOOKUP(B6,'Ürün Veri'!$A:$E,5,FALSE),"") -> 35 | G6: 15000 | I6: 10 | J6: =IF($I6="","",IF(VALUE($I6)=24,90,45)) -> 45 | K6: =IF($I6="","",IF(VALUE($I6)=24,30,15)) -> 15 | L6: =IF($I6="","",VALUE($I6)-($J6+$K6)/60) -> 9 | M6: Çalışmaz | N6: =IF(AI6="","",INT(AI6)) -> 46157 | O6: =IF(AI6="","",MOD(AI6,1)) -> 0.42013889 | P6: =IF(OR(E6="",F6="",G6="",E6=0),"",G6/E6*F6/3600) -> 18.229167 | Q6: =IF(OR(P6="",L6="",L6=0),"",P6/L6) -> 2.025463 | R6: =IF(AB6="","",WORKDAY.INTL(W6,AA6,V6,'Resmi Tatiller'!$A$2:$A$17)) -> 46162 | S6: =IF(AB6="","",IF($AD6="24 Saat",AB6/1440,IF($AD6="12 Saat",IF(AB6<=240,TIME(8,0,0)+AB6/1440,IF(AB6<=375,TIME(12,45,0)+(AB6-240)/1440,TIME(15,15,0)+(AB6-375)/1440)),IF($AD6="2 Vardiya",IF(AB6<=240,TIME(8,0,0)+AB6/1440,IF(AB6<=375,TIME(12,45,0)+(AB6-240)/1440,IF(AB6<=540,TIME(15,15,0)+(AB6-375)/1440,IF(AB6<=780,TIME(20,0,0)+(AB6-540)/1440,IF(AB6<=915,1+TIME(0,45,0)+(AB6-780)/1440,1+TIME(3,15,0)+(AB6-915)/1440))))),IF(AB6<=240,TIME(8,0,0)+AB6/1440,IF(AB6<=375,TIME(12,45,0)+(AB6-240)/1440,TIME(15,15,0)+(AB6-375)/1440)))))) -> 0.42986111 | T6: =IF(B6="","Boş",IF(OR(G6="",N6="",O6=""),"Eksik",IF(OR(R6="",S6=""),"Kontrol","Planlandı"))) -> Planlandı | U6: =IF($AD6="24 Saat",1440,IF($AD6="2 Vardiya",1080,IF($AD6="12 Saat",660,IF($AD6="Gündüz",540,IF(L6="","",L6*60))))) -> 540 | V6: =IF(M6="Çalışmaz","0000011","0000000") -> 0000011 | W6: =IF(OR(N6="",O6=""),"",IF($AD6="24 Saat",N6,IF($AD6="12 Saat",IF(O6>=TIME(20,0,0),WORKDAY.INTL(N6,1,V6,'Resmi Tatiller'!$A$2:$A$17),WORKDAY.INTL(N6-1,1,V6,'Resmi Tatiller'!$A$2:$A$17)),IF($AD6="2 Vardiya",IF(O6<TIME(6,0,0),N6-1,IF(O6<TIME(8,0,0),WORKDAY.INTL(N6-1,1,V6,'Resmi Tatiller'!$A$2:$A$17),N6)),IF(O6>=TIME(18,0,0),WORKDAY.INTL(N6,1,V6,'Resmi Tatiller'!$A$2:$A$17),WORKDAY.INTL(N6-1,1,V6,'Resmi Tatiller'!$A$2:$A$17)))))) -> 46157 | X6: =IF(W6="","",IF($AD6="24 Saat",MOD(O6,1)*1440,IF($AD6="12 Saat",IF(W6<>N6,0,IF(O6<TIME(8,0,0),0,IF(O6<TIME(12,0,0),(O6-TIME(8,0,0))*1440,IF(O6<TIME(12,45,0),240,IF(O6<TIME(15,0,0),240+(O6-TIME(12,45,0))*1440,IF(O6<TIME(15,15,0),375,IF(O6<TIME(20,0,0),375+(O6-TIME(15,15,0))*1440,0))))))),IF($AD6="2 Vardiya",IF(O6<TIME(6,0,0),IF(O6<TIME(0,45,0),780,IF(O6<TIME(3,0,0),780+(O6-TIME(0,45,0))*1440,IF(O6<TIME(3,15,0),915,915+(O6-TIME(3,15,0))*1440))),IF(O6<TIME(8,0,0),0,IF(O6<TIME(12,0,0),(O6-TIME(8,0,0))*1440,IF(O6<TIME(12,45,0),240,IF(O6<TIME(15,0,0),240+(O6-TIME(12,45,0))*1440,IF(O6<TIME(15,15,0),375,IF(O6<TIME(18,0,0),375+(O6-TIME(15,15,0))*1440,IF(O6<TIME(20,0,0),540,540+(O6-TIME(20,0,0))*1440)))))))),IF(W6<>N6,0,IF(O6<TIME(8,0,0),0,IF(O6<TIME(12,0,0),(O6-TIME(8,0,0))*1440,IF(O6<TIME(12,45,0),240,IF(O6<TIME(15,0,0),240+(O6-TIME(12,45,0))*1440,IF(O6<TIME(15,15,0),375,IF(O6<TIME(18,0,0),375+(O6-TIME(15,15,0))*1440,0))))))))))) -> 125 | Y6: =IF(P6="","",ROUNDUP(P6*60,0)) -> 1094 | Z6: =IF(Y6="","",N(X6)+Y6) -> 1219 | AA6: =IF(OR(Z6="",U6="",U6=0),"",INT((Z6-1)/U6)) -> 2 | AB6: =IF(OR(Z6="",U6="",U6=0),"",MOD(Z6-1,U6)+1) -> 139 | AC6: =IF(AB6="","",R6+S6) -> 46162.43 | AD6: =IF($I6="","",IF(VALUE($I6)=10,"Gündüz",IF(VALUE($I6)=12,"12 Saat",IF(VALUE($I6)=24,"2 Vardiya","")))) -> Gündüz | AE6: =IF(B6="","",IF(AC5="","",AC5+1/24)) -> 46157.42 | AF6: =IF(AE6="","",INT(AE6)) -> 46157 | AG6: =IF(AE6="","",MOD(AE6,1)) -> 0.42013889 | AH6: =IF(AF6="","",WORKDAY.INTL(AF6-1,1,V6,'Resmi Tatiller'!$A$2:$A$17)) -> 46157 | AI6: =IF(AE6="","",IF($AD6="24 Saat",AE6,IF($AD6="Gündüz",AJ6,IF($AD6="12 Saat",AK6,IF($AD6="2 Vardiya",AL6,AE6))))) -> 46157.42 | AJ6: =IF(AE6="","",IF(AH6<>AF6,AH6+TIME(8,0,0),IF(AG6<TIME(8,0,0),AF6+TIME(8,0,0),IF(AG6<TIME(12,0,0),AE6,IF(AG6<TIME(12,45,0),AF6+TIME(12,45,0),IF(AG6<TIME(15,0,0),AE6,IF(AG6<TIME(15,15,0),AF6+TIME(15,15,0),IF(AG6<TIME(18,0,0),AE6,WORKDAY.INTL(AF6,1,V6,'Resmi Tatiller'!$A$2:$A$17)+TIME(8,0,0))))))))) -> 46157.42 | AK6: =IF(AE6="","",IF(AH6<>AF6,AH6+TIME(8,0,0),IF(AG6<TIME(8,0,0),AF6+TIME(8,0,0),IF(AG6<TIME(12,0,0),AE6,IF(AG6<TIME(12,45,0),AF6+TIME(12,45,0),IF(AG6<TIME(15,0,0),AE6,IF(AG6<TIME(15,15,0),AF6+TIME(15,15,0),IF(AG6<TIME(20,0,0),AE6,WORKDAY.INTL(AF6,1,V6,'Resmi Tatiller'!$A$2:$A$17)+TIME(8,0,0))))))))) -> 46157.42 | AL6: =IF(AE6="","",IF(AG6<TIME(6,0,0),IF(AG6<TIME(0,45,0),AF6+TIME(0,45,0),IF(AG6<TIME(3,0,0),AE6,IF(AG6<TIME(3,15,0),AF6+TIME(3,15,0),AE6))),IF(AG6<TIME(8,0,0),AF6+TIME(8,0,0),IF(AG6<TIME(12,0,0),AE6,IF(AG6<TIME(12,45,0),AF6+TIME(12,45,0),IF(AG6<TIME(15,0,0),AE6,IF(AG6<TIME(15,15,0),AF6+TIME(15,15,0),IF(AG6<TIME(18,0,0),AE6,IF(AG6<TIME(20,0,0),AF6+TIME(20,0,0),IF(AH6<>AF6,AH6+TIME(8,0,0),AE6)))))))))) -> 46157.42
A7: =IF($B7="","",ROW()-2) -> 5 | B7: Y-MT-160 | C7: =IFERROR(VLOOKUP(B7,'Ürün Veri'!$A:$E,2,FALSE),"") -> LUNA KARE KURU SABUNLUK KAPAK KROM | D7: =IFERROR(VLOOKUP(B7,'Ürün Veri'!$A:$E,3,FALSE),"") -> YM 521 | E7: =IFERROR(VLOOKUP(B7,'Ürün Veri'!$A:$E,4,FALSE),"") -> 4 | F7: =IFERROR(VLOOKUP(B7,'Ürün Veri'!$A:$E,5,FALSE),"") -> 30 | G7: 2000 | I7: 10 | J7: =IF($I7="","",IF(VALUE($I7)=24,90,45)) -> 45 | K7: =IF($I7="","",IF(VALUE($I7)=24,30,15)) -> 15 | L7: =IF($I7="","",VALUE($I7)-($J7+$K7)/60) -> 9 | M7: Çalışmaz | N7: =IF(AI7="","",INT(AI7)) -> 46162 | O7: =IF(AI7="","",MOD(AI7,1)) -> 0.47152778 | P7: =IF(OR(E7="",F7="",G7="",E7=0),"",G7/E7*F7/3600) -> 4.1666667 | Q7: =IF(OR(P7="",L7="",L7=0),"",P7/L7) -> 0.46296296 | R7: =IF(AB7="","",WORKDAY.INTL(W7,AA7,V7,'Resmi Tatiller'!$A$2:$A$17)) -> 46162 | S7: =IF(AB7="","",IF($AD7="24 Saat",AB7/1440,IF($AD7="12 Saat",IF(AB7<=240,TIME(8,0,0)+AB7/1440,IF(AB7<=375,TIME(12,45,0)+(AB7-240)/1440,TIME(15,15,0)+(AB7-375)/1440)),IF($AD7="2 Vardiya",IF(AB7<=240,TIME(8,0,0)+AB7/1440,IF(AB7<=375,TIME(12,45,0)+(AB7-240)/1440,IF(AB7<=540,TIME(15,15,0)+(AB7-375)/1440,IF(AB7<=780,TIME(20,0,0)+(AB7-540)/1440,IF(AB7<=915,1+TIME(0,45,0)+(AB7-780)/1440,1+TIME(3,15,0)+(AB7-915)/1440))))),IF(AB7<=240,TIME(8,0,0)+AB7/1440,IF(AB7<=375,TIME(12,45,0)+(AB7-240)/1440,TIME(15,15,0)+(AB7-375)/1440)))))) -> 0.68680556 | T7: =IF(B7="","Boş",IF(OR(G7="",N7="",O7=""),"Eksik",IF(OR(R7="",S7=""),"Kontrol","Planlandı"))) -> Planlandı | U7: =IF($AD7="24 Saat",1440,IF($AD7="2 Vardiya",1080,IF($AD7="12 Saat",660,IF($AD7="Gündüz",540,IF(L7="","",L7*60))))) -> 540 | V7: =IF(M7="Çalışmaz","0000011","0000000") -> 0000011 | W7: =IF(OR(N7="",O7=""),"",IF($AD7="24 Saat",N7,IF($AD7="12 Saat",IF(O7>=TIME(20,0,0),WORKDAY.INTL(N7,1,V7,'Resmi Tatiller'!$A$2:$A$17),WORKDAY.INTL(N7-1,1,V7,'Resmi Tatiller'!$A$2:$A$17)),IF($AD7="2 Vardiya",IF(O7<TIME(6,0,0),N7-1,IF(O7<TIME(8,0,0),WORKDAY.INTL(N7-1,1,V7,'Resmi Tatiller'!$A$2:$A$17),N7)),IF(O7>=TIME(18,0,0),WORKDAY.INTL(N7,1,V7,'Resmi Tatiller'!$A$2:$A$17),WORKDAY.INTL(N7-1,1,V7,'Resmi Tatiller'!$A$2:$A$17)))))) -> 46162 | X7: =IF(W7="","",IF($AD7="24 Saat",MOD(O7,1)*1440,IF($AD7="12 Saat",IF(W7<>N7,0,IF(O7<TIME(8,0,0),0,IF(O7<TIME(12,0,0),(O7-TIME(8,0,0))*1440,IF(O7<TIME(12,45,0),240,IF(O7<TIME(15,0,0),240+(O7-TIME(12,45,0))*1440,IF(O7<TIME(15,15,0),375,IF(O7<TIME(20,0,0),375+(O7-TIME(15,15,0))*1440,0))))))),IF($AD7="2 Vardiya",IF(O7<TIME(6,0,0),IF(O7<TIME(0,45,0),780,IF(O7<TIME(3,0,0),780+(O7-TIME(0,45,0))*1440,IF(O7<TIME(3,15,0),915,915+(O7-TIME(3,15,0))*1440))),IF(O7<TIME(8,0,0),0,IF(O7<TIME(12,0,0),(O7-TIME(8,0,0))*1440,IF(O7<TIME(12,45,0),240,IF(O7<TIME(15,0,0),240+(O7-TIME(12,45,0))*1440,IF(O7<TIME(15,15,0),375,IF(O7<TIME(18,0,0),375+(O7-TIME(15,15,0))*1440,IF(O7<TIME(20,0,0),540,540+(O7-TIME(20,0,0))*1440)))))))),IF(W7<>N7,0,IF(O7<TIME(8,0,0),0,IF(O7<TIME(12,0,0),(O7-TIME(8,0,0))*1440,IF(O7<TIME(12,45,0),240,IF(O7<TIME(15,0,0),240+(O7-TIME(12,45,0))*1440,IF(O7<TIME(15,15,0),375,IF(O7<TIME(18,0,0),375+(O7-TIME(15,15,0))*1440,0))))))))))) -> 199 | Y7: =IF(P7="","",ROUNDUP(P7*60,0)) -> 250 | Z7: =IF(Y7="","",N(X7)+Y7) -> 449 | AA7: =IF(OR(Z7="",U7="",U7=0),"",INT((Z7-1)/U7)) -> 0 | AB7: =IF(OR(Z7="",U7="",U7=0),"",MOD(Z7-1,U7)+1) -> 449 | AC7: =IF(AB7="","",R7+S7) -> 46162.687 | AD7: =IF($I7="","",IF(VALUE($I7)=10,"Gündüz",IF(VALUE($I7)=12,"12 Saat",IF(VALUE($I7)=24,"2 Vardiya","")))) -> Gündüz | AE7: =IF(B7="","",IF(AC6="","",AC6+1/24)) -> 46162.472 | AF7: =IF(AE7="","",INT(AE7)) -> 46162 | AG7: =IF(AE7="","",MOD(AE7,1)) -> 0.47152778 | AH7: =IF(AF7="","",WORKDAY.INTL(AF7-1,1,V7,'Resmi Tatiller'!$A$2:$A$17)) -> 46162 | AI7: =IF(AE7="","",IF($AD7="24 Saat",AE7,IF($AD7="Gündüz",AJ7,IF($AD7="12 Saat",AK7,IF($AD7="2 Vardiya",AL7,AE7))))) -> 46162.472 | AJ7: =IF(AE7="","",IF(AH7<>AF7,AH7+TIME(8,0,0),IF(AG7<TIME(8,0,0),AF7+TIME(8,0,0),IF(AG7<TIME(12,0,0),AE7,IF(AG7<TIME(12,45,0),AF7+TIME(12,45,0),IF(AG7<TIME(15,0,0),AE7,IF(AG7<TIME(15,15,0),AF7+TIME(15,15,0),IF(AG7<TIME(18,0,0),AE7,WORKDAY.INTL(AF7,1,V7,'Resmi Tatiller'!$A$2:$A$17)+TIME(8,0,0))))))))) -> 46162.472 | AK7: =IF(AE7="","",IF(AH7<>AF7,AH7+TIME(8,0,0),IF(AG7<TIME(8,0,0),AF7+TIME(8,0,0),IF(AG7<TIME(12,0,0),AE7,IF(AG7<TIME(12,45,0),AF7+TIME(12,45,0),IF(AG7<TIME(15,0,0),AE7,IF(AG7<TIME(15,15,0),AF7+TIME(15,15,0),IF(AG7<TIME(20,0,0),AE7,WORKDAY.INTL(AF7,1,V7,'Resmi Tatiller'!$A$2:$A$17)+TIME(8,0,0))))))))) -> 46162.472 | AL7: =IF(AE7="","",IF(AG7<TIME(6,0,0),IF(AG7<TIME(0,45,0),AF7+TIME(0,45,0),IF(AG7<TIME(3,0,0),AE7,IF(AG7<TIME(3,15,0),AF7+TIME(3,15,0),AE7))),IF(AG7<TIME(8,0,0),AF7+TIME(8,0,0),IF(AG7<TIME(12,0,0),AE7,IF(AG7<TIME(12,45,0),AF7+TIME(12,45,0),IF(AG7<TIME(15,0,0),AE7,IF(AG7<TIME(15,15,0),AF7+TIME(15,15,0),IF(AG7<TIME(18,0,0),AE7,IF(AG7<TIME(20,0,0),AF7+TIME(20,0,0),IF(AH7<>AF7,AH7+TIME(8,0,0),AE7)))))))))) -> 46162.472
A8: =IF($B8="","",ROW()-2) | C8: =IFERROR(VLOOKUP(B8,'Ürün Veri'!$A:$E,2,FALSE),"") | D8: =IFERROR(VLOOKUP(B8,'Ürün Veri'!$A:$E,3,FALSE),"") | E8: =IFERROR(VLOOKUP(B8,'Ürün Veri'!$A:$E,4,FALSE),"") | F8: =IFERROR(VLOOKUP(B8,'Ürün Veri'!$A:$E,5,FALSE),"") | I8: 10 | J8: =IF($I8="","",IF(VALUE($I8)=24,90,45)) -> 45 | K8: =IF($I8="","",IF(VALUE($I8)=24,30,15)) -> 15 | L8: =IF($I8="","",VALUE($I8)-($J8+$K8)/60) -> 9 | M8: Çalışmaz | N8: =IF(AI8="","",INT(AI8)) | O8: =IF(AI8="","",MOD(AI8,1)) | P8: =IF(OR(E8="",F8="",G8="",E8=0),"",G8/E8*F8/3600) | Q8: =IF(OR(P8="",L8="",L8=0),"",P8/L8) | R8: =IF(AB8="","",WORKDAY.INTL(W8,AA8,V8,'Resmi Tatiller'!$A$2:$A$17)) | S8: =IF(AB8="","",IF($AD8="24 Saat",AB8/1440,IF($AD8="12 Saat",IF(AB8<=240,TIME(8,0,0)+AB8/1440,IF(AB8<=375,TIME(12,45,0)+(AB8-240)/1440,TIME(15,15,0)+(AB8-375)/1440)),IF($AD8="2 Vardiya",IF(AB8<=240,TIME(8,0,0)+AB8/1440,IF(AB8<=375,TIME(12,45,0)+(AB8-240)/1440,IF(AB8<=540,TIME(15,15,0)+(AB8-375)/1440,IF(AB8<=780,TIME(20,0,0)+(AB8-540)/1440,IF(AB8<=915,1+TIME(0,45,0)+(AB8-780)/1440,1+TIME(3,15,0)+(AB8-915)/1440))))),IF(AB8<=240,TIME(8,0,0)+AB8/1440,IF(AB8<=375,TIME(12,45,0)+(AB8-240)/1440,TIME(15,15,0)+(AB8-375)/1440)))))) | T8: =IF(B8="","Boş",IF(OR(G8="",N8="",O8=""),"Eksik",IF(OR(R8="",S8=""),"Kontrol","Planlandı"))) -> Boş | U8: =IF($AD8="24 Saat",1440,IF($AD8="2 Vardiya",1080,IF($AD8="12 Saat",660,IF($AD8="Gündüz",540,IF(L8="","",L8*60))))) -> 540 | V8: =IF(M8="Çalışmaz","0000011","0000000") -> 0000011 | W8: =IF(OR(N8="",O8=""),"",IF($AD8="24 Saat",N8,IF($AD8="12 Saat",IF(O8>=TIME(20,0,0),WORKDAY.INTL(N8,1,V8,'Resmi Tatiller'!$A$2:$A$17),WORKDAY.INTL(N8-1,1,V8,'Resmi Tatiller'!$A$2:$A$17)),IF($AD8="2 Vardiya",IF(O8<TIME(6,0,0),N8-1,IF(O8<TIME(8,0,0),WORKDAY.INTL(N8-1,1,V8,'Resmi Tatiller'!$A$2:$A$17),N8)),IF(O8>=TIME(18,0,0),WORKDAY.INTL(N8,1,V8,'Resmi Tatiller'!$A$2:$A$17),WORKDAY.INTL(N8-1,1,V8,'Resmi Tatiller'!$A$2:$A$17)))))) | X8: =IF(W8="","",IF($AD8="24 Saat",MOD(O8,1)*1440,IF($AD8="12 Saat",IF(W8<>N8,0,IF(O8<TIME(8,0,0),0,IF(O8<TIME(12,0,0),(O8-TIME(8,0,0))*1440,IF(O8<TIME(12,45,0),240,IF(O8<TIME(15,0,0),240+(O8-TIME(12,45,0))*1440,IF(O8<TIME(15,15,0),375,IF(O8<TIME(20,0,0),375+(O8-TIME(15,15,0))*1440,0))))))),IF($AD8="2 Vardiya",IF(O8<TIME(6,0,0),IF(O8<TIME(0,45,0),780,IF(O8<TIME(3,0,0),780+(O8-TIME(0,45,0))*1440,IF(O8<TIME(3,15,0),915,915+(O8-TIME(3,15,0))*1440))),IF(O8<TIME(8,0,0),0,IF(O8<TIME(12,0,0),(O8-TIME(8,0,0))*1440,IF(O8<TIME(12,45,0),240,IF(O8<TIME(15,0,0),240+(O8-TIME(12,45,0))*1440,IF(O8<TIME(15,15,0),375,IF(O8<TIME(18,0,0),375+(O8-TIME(15,15,0))*1440,IF(O8<TIME(20,0,0),540,540+(O8-TIME(20,0,0))*1440)))))))),IF(W8<>N8,0,IF(O8<TIME(8,0,0),0,IF(O8<TIME(12,0,0),(O8-TIME(8,0,0))*1440,IF(O8<TIME(12,45,0),240,IF(O8<TIME(15,0,0),240+(O8-TIME(12,45,0))*1440,IF(O8<TIME(15,15,0),375,IF(O8<TIME(18,0,0),375+(O8-TIME(15,15,0))*1440,0))))))))))) | Y8: =IF(P8="","",ROUNDUP(P8*60,0)) | Z8: =IF(Y8="","",N(X8)+Y8) | AA8: =IF(OR(Z8="",U8="",U8=0),"",INT((Z8-1)/U8)) | AB8: =IF(OR(Z8="",U8="",U8=0),"",MOD(Z8-1,U8)+1) | AC8: =IF(AB8="","",R8+S8) | AD8: =IF($I8="","",IF(VALUE($I8)=10,"Gündüz",IF(VALUE($I8)=12,"12 Saat",IF(VALUE($I8)=24,"2 Vardiya","")))) -> Gündüz | AE8: =IF(B8="","",IF(AC7="","",AC7+1/24)) | AF8: =IF(AE8="","",INT(AE8)) | AG8: =IF(AE8="","",MOD(AE8,1)) | AH8: =IF(AF8="","",WORKDAY.INTL(AF8-1,1,V8,'Resmi Tatiller'!$A$2:$A$17)) | AI8: =IF(AE8="","",IF($AD8="24 Saat",AE8,IF($AD8="Gündüz",AJ8,IF($AD8="12 Saat",AK8,IF($AD8="2 Vardiya",AL8,AE8))))) | AJ8: =IF(AE8="","",IF(AH8<>AF8,AH8+TIME(8,0,0),IF(AG8<TIME(8,0,0),AF8+TIME(8,0,0),IF(AG8<TIME(12,0,0),AE8,IF(AG8<TIME(12,45,0),AF8+TIME(12,45,0),IF(AG8<TIME(15,0,0),AE8,IF(AG8<TIME(15,15,0),AF8+TIME(15,15,0),IF(AG8<TIME(18,0,0),AE8,WORKDAY.INTL(AF8,1,V8,'Resmi Tatiller'!$A$2:$A$17)+TIME(8,0,0))))))))) | AK8: =IF(AE8="","",IF(AH8<>AF8,AH8+TIME(8,0,0),IF(AG8<TIME(8,0,0),AF8+TIME(8,0,0),IF(AG8<TIME(12,0,0),AE8,IF(AG8<TIME(12,45,0),AF8+TIME(12,45,0),IF(AG8<TIME(15,0,0),AE8,IF(AG8<TIME(15,15,0),AF8+TIME(15,15,0),IF(AG8<TIME(20,0,0),AE8,WORKDAY.INTL(AF8,1,V8,'Resmi Tatiller'!$A$2:$A$17)+TIME(8,0,0))))))))) | AL8: =IF(AE8="","",IF(AG8<TIME(6,0,0),IF(AG8<TIME(0,45,0),AF8+TIME(0,45,0),IF(AG8<TIME(3,0,0),AE8,IF(AG8<TIME(3,15,0),AF8+TIME(3,15,0),AE8))),IF(AG8<TIME(8,0,0),AF8+TIME(8,0,0),IF(AG8<TIME(12,0,0),AE8,IF(AG8<TIME(12,45,0),AF8+TIME(12,45,0),IF(AG8<TIME(15,0,0),AE8,IF(AG8<TIME(15,15,0),AF8+TIME(15,15,0),IF(AG8<TIME(18,0,0),AE8,IF(AG8<TIME(20,0,0),AF8+TIME(20,0,0),IF(AH8<>AF8,AH8+TIME(8,0,0),AE8))))))))))
A9: =IF($B9="","",ROW()-2) | C9: =IFERROR(VLOOKUP(B9,'Ürün Veri'!$A:$E,2,FALSE),"") | D9: =IFERROR(VLOOKUP(B9,'Ürün Veri'!$A:$E,3,FALSE),"") | E9: =IFERROR(VLOOKUP(B9,'Ürün Veri'!$A:$E,4,FALSE),"") | F9: =IFERROR(VLOOKUP(B9,'Ürün Veri'!$A:$E,5,FALSE),"") | I9: 10 | J9: =IF($I9="","",IF(VALUE($I9)=24,90,45)) -> 45 | K9: =IF($I9="","",IF(VALUE($I9)=24,30,15)) -> 15 | L9: =IF($I9="","",VALUE($I9)-($J9+$K9)/60) -> 9 | M9: Çalışmaz | N9: =IF(AI9="","",INT(AI9)) | O9: =IF(AI9="","",MOD(AI9,1)) | P9: =IF(OR(E9="",F9="",G9="",E9=0),"",G9/E9*F9/3600) | Q9: =IF(OR(P9="",L9="",L9=0),"",P9/L9) | R9: =IF(AB9="","",WORKDAY.INTL(W9,AA9,V9,'Resmi Tatiller'!$A$2:$A$17)) | S9: =IF(AB9="","",IF($AD9="24 Saat",AB9/1440,IF($AD9="12 Saat",IF(AB9<=240,TIME(8,0,0)+AB9/1440,IF(AB9<=375,TIME(12,45,0)+(AB9-240)/1440,TIME(15,15,0)+(AB9-375)/1440)),IF($AD9="2 Vardiya",IF(AB9<=240,TIME(8,0,0)+AB9/1440,IF(AB9<=375,TIME(12,45,0)+(AB9-240)/1440,IF(AB9<=540,TIME(15,15,0)+(AB9-375)/1440,IF(AB9<=780,TIME(20,0,0)+(AB9-540)/1440,IF(AB9<=915,1+TIME(0,45,0)+(AB9-780)/1440,1+TIME(3,15,0)+(AB9-915)/1440))))),IF(AB9<=240,TIME(8,0,0)+AB9/1440,IF(AB9<=375,TIME(12,45,0)+(AB9-240)/1440,TIME(15,15,0)+(AB9-375)/1440)))))) | T9: =IF(B9="","Boş",IF(OR(G9="",N9="",O9=""),"Eksik",IF(OR(R9="",S9=""),"Kontrol","Planlandı"))) -> Boş | U9: =IF($AD9="24 Saat",1440,IF($AD9="2 Vardiya",1080,IF($AD9="12 Saat",660,IF($AD9="Gündüz",540,IF(L9="","",L9*60))))) -> 540 | V9: =IF(M9="Çalışmaz","0000011","0000000") -> 0000011 | W9: =IF(OR(N9="",O9=""),"",IF($AD9="24 Saat",N9,IF($AD9="12 Saat",IF(O9>=TIME(20,0,0),WORKDAY.INTL(N9,1,V9,'Resmi Tatiller'!$A$2:$A$17),WORKDAY.INTL(N9-1,1,V9,'Resmi Tatiller'!$A$2:$A$17)),IF($AD9="2 Vardiya",IF(O9<TIME(6,0,0),N9-1,IF(O9<TIME(8,0,0),WORKDAY.INTL(N9-1,1,V9,'Resmi Tatiller'!$A$2:$A$17),N9)),IF(O9>=TIME(18,0,0),WORKDAY.INTL(N9,1,V9,'Resmi Tatiller'!$A$2:$A$17),WORKDAY.INTL(N9-1,1,V9,'Resmi Tatiller'!$A$2:$A$17)))))) | X9: =IF(W9="","",IF($AD9="24 Saat",MOD(O9,1)*1440,IF($AD9="12 Saat",IF(W9<>N9,0,IF(O9<TIME(8,0,0),0,IF(O9<TIME(12,0,0),(O9-TIME(8,0,0))*1440,IF(O9<TIME(12,45,0),240,IF(O9<TIME(15,0,0),240+(O9-TIME(12,45,0))*1440,IF(O9<TIME(15,15,0),375,IF(O9<TIME(20,0,0),375+(O9-TIME(15,15,0))*1440,0))))))),IF($AD9="2 Vardiya",IF(O9<TIME(6,0,0),IF(O9<TIME(0,45,0),780,IF(O9<TIME(3,0,0),780+(O9-TIME(0,45,0))*1440,IF(O9<TIME(3,15,0),915,915+(O9-TIME(3,15,0))*1440))),IF(O9<TIME(8,0,0),0,IF(O9<TIME(12,0,0),(O9-TIME(8,0,0))*1440,IF(O9<TIME(12,45,0),240,IF(O9<TIME(15,0,0),240+(O9-TIME(12,45,0))*1440,IF(O9<TIME(15,15,0),375,IF(O9<TIME(18,0,0),375+(O9-TIME(15,15,0))*1440,IF(O9<TIME(20,0,0),540,540+(O9-TIME(20,0,0))*1440)))))))),IF(W9<>N9,0,IF(O9<TIME(8,0,0),0,IF(O9<TIME(12,0,0),(O9-TIME(8,0,0))*1440,IF(O9<TIME(12,45,0),240,IF(O9<TIME(15,0,0),240+(O9-TIME(12,45,0))*1440,IF(O9<TIME(15,15,0),375,IF(O9<TIME(18,0,0),375+(O9-TIME(15,15,0))*1440,0))))))))))) | Y9: =IF(P9="","",ROUNDUP(P9*60,0)) | Z9: =IF(Y9="","",N(X9)+Y9) | AA9: =IF(OR(Z9="",U9="",U9=0),"",INT((Z9-1)/U9)) | AB9: =IF(OR(Z9="",U9="",U9=0),"",MOD(Z9-1,U9)+1) | AC9: =IF(AB9="","",R9+S9) | AD9: =IF($I9="","",IF(VALUE($I9)=10,"Gündüz",IF(VALUE($I9)=12,"12 Saat",IF(VALUE($I9)=24,"2 Vardiya","")))) -> Gündüz | AE9: =IF(B9="","",IF(AC8="","",AC8+1/24)) | AF9: =IF(AE9="","",INT(AE9)) | AG9: =IF(AE9="","",MOD(AE9,1)) | AH9: =IF(AF9="","",WORKDAY.INTL(AF9-1,1,V9,'Resmi Tatiller'!$A$2:$A$17)) | AI9: =IF(AE9="","",IF($AD9="24 Saat",AE9,IF($AD9="Gündüz",AJ9,IF($AD9="12 Saat",AK9,IF($AD9="2 Vardiya",AL9,AE9))))) | AJ9: =IF(AE9="","",IF(AH9<>AF9,AH9+TIME(8,0,0),IF(AG9<TIME(8,0,0),AF9+TIME(8,0,0),IF(AG9<TIME(12,0,0),AE9,IF(AG9<TIME(12,45,0),AF9+TIME(12,45,0),IF(AG9<TIME(15,0,0),AE9,IF(AG9<TIME(15,15,0),AF9+TIME(15,15,0),IF(AG9<TIME(18,0,0),AE9,WORKDAY.INTL(AF9,1,V9,'Resmi Tatiller'!$A$2:$A$17)+TIME(8,0,0))))))))) | AK9: =IF(AE9="","",IF(AH9<>AF9,AH9+TIME(8,0,0),IF(AG9<TIME(8,0,0),AF9+TIME(8,0,0),IF(AG9<TIME(12,0,0),AE9,IF(AG9<TIME(12,45,0),AF9+TIME(12,45,0),IF(AG9<TIME(15,0,0),AE9,IF(AG9<TIME(15,15,0),AF9+TIME(15,15,0),IF(AG9<TIME(20,0,0),AE9,WORKDAY.INTL(AF9,1,V9,'Resmi Tatiller'!$A$2:$A$17)+TIME(8,0,0))))))))) | AL9: =IF(AE9="","",IF(AG9<TIME(6,0,0),IF(AG9<TIME(0,45,0),AF9+TIME(0,45,0),IF(AG9<TIME(3,0,0),AE9,IF(AG9<TIME(3,15,0),AF9+TIME(3,15,0),AE9))),IF(AG9<TIME(8,0,0),AF9+TIME(8,0,0),IF(AG9<TIME(12,0,0),AE9,IF(AG9<TIME(12,45,0),AF9+TIME(12,45,0),IF(AG9<TIME(15,0,0),AE9,IF(AG9<TIME(15,15,0),AF9+TIME(15,15,0),IF(AG9<TIME(18,0,0),AE9,IF(AG9<TIME(20,0,0),AF9+TIME(20,0,0),IF(AH9<>AF9,AH9+TIME(8,0,0),AE9))))))))))
A10: =IF($B10="","",ROW()-2) | C10: =IFERROR(VLOOKUP(B10,'Ürün Veri'!$A:$E,2,FALSE),"") | D10: =IFERROR(VLOOKUP(B10,'Ürün Veri'!$A:$E,3,FALSE),"") | E10: =IFERROR(VLOOKUP(B10,'Ürün Veri'!$A:$E,4,FALSE),"") | F10: =IFERROR(VLOOKUP(B10,'Ürün Veri'!$A:$E,5,FALSE),"") | I10: 10 | J10: =IF($I10="","",IF(VALUE($I10)=24,90,45)) -> 45 | K10: =IF($I10="","",IF(VALUE($I10)=24,30,15)) -> 15 | L10: =IF($I10="","",VALUE($I10)-($J10+$K10)/60) -> 9 | M10: Çalışmaz | N10: =IF(AI10="","",INT(AI10)) | O10: =IF(AI10="","",MOD(AI10,1)) | P10: =IF(OR(E10="",F10="",G10="",E10=0),"",G10/E10*F10/3600) | Q10: =IF(OR(P10="",L10="",L10=0),"",P10/L10) | R10: =IF(AB10="","",WORKDAY.INTL(W10,AA10,V10,'Resmi Tatiller'!$A$2:$A$17)) | S10: =IF(AB10="","",IF($AD10="24 Saat",AB10/1440,IF($AD10="12 Saat",IF(AB10<=240,TIME(8,0,0)+AB10/1440,IF(AB10<=375,TIME(12,45,0)+(AB10-240)/1440,TIME(15,15,0)+(AB10-375)/1440)),IF($AD10="2 Vardiya",IF(AB10<=240,TIME(8,0,0)+AB10/1440,IF(AB10<=375,TIME(12,45,0)+(AB10-240)/1440,IF(AB10<=540,TIME(15,15,0)+(AB10-375)/1440,IF(AB10<=780,TIME(20,0,0)+(AB10-540)/1440,IF(AB10<=915,1+TIME(0,45,0)+(AB10-780)/1440,1+TIME(3,15,0)+(AB10-915)/1440))))),IF(AB10<=240,TIME(8,0,0)+AB10/1440,IF(AB10<=375,TIME(12,45,0)+(AB10-240)/1440,TIME(15,15,0)+(AB10-375)/1440)))))) | T10: =IF(B10="","Boş",IF(OR(G10="",N10="",O10=""),"Eksik",IF(OR(R10="",S10=""),"Kontrol","Planlandı"))) -> Boş | U10: =IF($AD10="24 Saat",1440,IF($AD10="2 Vardiya",1080,IF($AD10="12 Saat",660,IF($AD10="Gündüz",540,IF(L10="","",L10*60))))) -> 540 | V10: =IF(M10="Çalışmaz","0000011","0000000") -> 0000011 | W10: =IF(OR(N10="",O10=""),"",IF($AD10="24 Saat",N10,IF($AD10="12 Saat",IF(O10>=TIME(20,0,0),WORKDAY.INTL(N10,1,V10,'Resmi Tatiller'!$A$2:$A$17),WORKDAY.INTL(N10-1,1,V10,'Resmi Tatiller'!$A$2:$A$17)),IF($AD10="2 Vardiya",IF(O10<TIME(6,0,0),N10-1,IF(O10<TIME(8,0,0),WORKDAY.INTL(N10-1,1,V10,'Resmi Tatiller'!$A$2:$A$17),N10)),IF(O10>=TIME(18,0,0),WORKDAY.INTL(N10,1,V10,'Resmi Tatiller'!$A$2:$A$17),WORKDAY.INTL(N10-1,1,V10,'Resmi Tatiller'!$A$2:$A$17)))))) | X10: =IF(W10="","",IF($AD10="24 Saat",MOD(O10,1)*1440,IF($AD10="12 Saat",IF(W10<>N10,0,IF(O10<TIME(8,0,0),0,IF(O10<TIME(12,0,0),(O10-TIME(8,0,0))*1440,IF(O10<TIME(12,45,0),240,IF(O10<TIME(15,0,0),240+(O10-TIME(12,45,0))*1440,IF(O10<TIME(15,15,0),375,IF(O10<TIME(20,0,0),375+(O10-TIME(15,15,0))*1440,0))))))),IF($AD10="2 Vardiya",IF(O10<TIME(6,0,0),IF(O10<TIME(0,45,0),780,IF(O10<TIME(3,0,0),780+(O10-TIME(0,45,0))*1440,IF(O10<TIME(3,15,0),915,915+(O10-TIME(3,15,0))*1440))),IF(O10<TIME(8,0,0),0,IF(O10<TIME(12,0,0),(O10-TIME(8,0,0))*1440,IF(O10<TIME(12,45,0),240,IF(O10<TIME(15,0,0),240+(O10-TIME(12,45,0))*1440,IF(O10<TIME(15,15,0),375,IF(O10<TIME(18,0,0),375+(O10-TIME(15,15,0))*1440,IF(O10<TIME(20,0,0),540,540+(O10-TIME(20,0,0))*1440)))))))),IF(W10<>N10,0,IF(O10<TIME(8,0,0),0,IF(O10<TIME(12,0,0),(O10-TIME(8,0,0))*1440,IF(O10<TIME(12,45,0),240,IF(O10<TIME(15,0,0),240+(O10-TIME(12,45,0))*1440,IF(O10<TIME(15,15,0),375,IF(O10<TIME(18,0,0),375+(O10-TIME(15,15,0))*1440,0))))))))))) | Y10: =IF(P10="","",ROUNDUP(P10*60,0)) | Z10: =IF(Y10="","",N(X10)+Y10) | AA10: =IF(OR(Z10="",U10="",U10=0),"",INT((Z10-1)/U10)) | AB10: =IF(OR(Z10="",U10="",U10=0),"",MOD(Z10-1,U10)+1) | AC10: =IF(AB10="","",R10+S10) | AD10: =IF($I10="","",IF(VALUE($I10)=10,"Gündüz",IF(VALUE($I10)=12,"12 Saat",IF(VALUE($I10)=24,"2 Vardiya","")))) -> Gündüz | AE10: =IF(B10="","",IF(AC9="","",AC9+1/24)) | AF10: =IF(AE10="","",INT(AE10)) | AG10: =IF(AE10="","",MOD(AE10,1)) | AH10: =IF(AF10="","",WORKDAY.INTL(AF10-1,1,V10,'Resmi Tatiller'!$A$2:$A$17)) | AI10: =IF(AE10="","",IF($AD10="24 Saat",AE10,IF($AD10="Gündüz",AJ10,IF($AD10="12 Saat",AK10,IF($AD10="2 Vardiya",AL10,AE10))))) | AJ10: =IF(AE10="","",IF(AH10<>AF10,AH10+TIME(8,0,0),IF(AG10<TIME(8,0,0),AF10+TIME(8,0,0),IF(AG10<TIME(12,0,0),AE10,IF(AG10<TIME(12,45,0),AF10+TIME(12,45,0),IF(AG10<TIME(15,0,0),AE10,IF(AG10<TIME(15,15,0),AF10+TIME(15,15,0),IF(AG10<TIME(18,0,0),AE10,WORKDAY.INTL(AF10,1,V10,'Resmi Tatiller'!$A$2:$A$17)+TIME(8,0,0))))))))) | AK10: =IF(AE10="","",IF(AH10<>AF10,AH10+TIME(8,0,0),IF(AG10<TIME(8,0,0),AF10+TIME(8,0,0),IF(AG10<TIME(12,0,0),AE10,IF(AG10<TIME(12,45,0),AF10+TIME(12,45,0),IF(AG10<TIME(15,0,0),AE10,IF(AG10<TIME(15,15,0),AF10+TIME(15,15,0),IF(AG10<TIME(20,0,0),AE10,WORKDAY.INTL(AF10,1,V10,'Resmi Tatiller'!$A$2:$A$17)+TIME(8,0,0))))))))) | AL10: =IF(AE10="","",IF(AG10<TIME(6,0,0),IF(AG10<TIME(0,45,0),AF10+TIME(0,45,0),IF(AG10<TIME(3,0,0),AE10,IF(AG10<TIME(3,15,0),AF10+TIME(3,15,0),AE10))),IF(AG10<TIME(8,0,0),AF10+TIME(8,0,0),IF(AG10<TIME(12,0,0),AE10,IF(AG10<TIME(12,45,0),AF10+TIME(12,45,0),IF(AG10<TIME(15,0,0),AE10,IF(AG10<TIME(15,15,0),AF10+TIME(15,15,0),IF(AG10<TIME(18,0,0),AE10,IF(AG10<TIME(20,0,0),AF10+TIME(20,0,0),IF(AH10<>AF10,AH10+TIME(8,0,0),AE10))))))))))
A11: =IF($B11="","",ROW()-2) | C11: =IFERROR(VLOOKUP(B11,'Ürün Veri'!$A:$E,2,FALSE),"") | D11: =IFERROR(VLOOKUP(B11,'Ürün Veri'!$A:$E,3,FALSE),"") | E11: =IFERROR(VLOOKUP(B11,'Ürün Veri'!$A:$E,4,FALSE),"") | F11: =IFERROR(VLOOKUP(B11,'Ürün Veri'!$A:$E,5,FALSE),"") | I11: 10 | J11: =IF($I11="","",IF(VALUE($I11)=24,90,45)) -> 45 | K11: =IF($I11="","",IF(VALUE($I11)=24,30,15)) -> 15 | L11: =IF($I11="","",VALUE($I11)-($J11+$K11)/60) -> 9 | M11: Çalışmaz | N11: =IF(AI11="","",INT(AI11)) | O11: =IF(AI11="","",MOD(AI11,1)) | P11: =IF(OR(E11="",F11="",G11="",E11=0),"",G11/E11*F11/3600) | Q11: =IF(OR(P11="",L11="",L11=0),"",P11/L11) | R11: =IF(AB11="","",WORKDAY.INTL(W11,AA11,V11,'Resmi Tatiller'!$A$2:$A$17)) | S11: =IF(AB11="","",IF($AD11="24 Saat",AB11/1440,IF($AD11="12 Saat",IF(AB11<=240,TIME(8,0,0)+AB11/1440,IF(AB11<=375,TIME(12,45,0)+(AB11-240)/1440,TIME(15,15,0)+(AB11-375)/1440)),IF($AD11="2 Vardiya",IF(AB11<=240,TIME(8,0,0)+AB11/1440,IF(AB11<=375,TIME(12,45,0)+(AB11-240)/1440,IF(AB11<=540,TIME(15,15,0)+(AB11-375)/1440,IF(AB11<=780,TIME(20,0,0)+(AB11-540)/1440,IF(AB11<=915,1+TIME(0,45,0)+(AB11-780)/1440,1+TIME(3,15,0)+(AB11-915)/1440))))),IF(AB11<=240,TIME(8,0,0)+AB11/1440,IF(AB11<=375,TIME(12,45,0)+(AB11-240)/1440,TIME(15,15,0)+(AB11-375)/1440)))))) | T11: =IF(B11="","Boş",IF(OR(G11="",N11="",O11=""),"Eksik",IF(OR(R11="",S11=""),"Kontrol","Planlandı"))) -> Boş | U11: =IF($AD11="24 Saat",1440,IF($AD11="2 Vardiya",1080,IF($AD11="12 Saat",660,IF($AD11="Gündüz",540,IF(L11="","",L11*60))))) -> 540 | V11: =IF(M11="Çalışmaz","0000011","0000000") -> 0000011 | W11: =IF(OR(N11="",O11=""),"",IF($AD11="24 Saat",N11,IF($AD11="12 Saat",IF(O11>=TIME(20,0,0),WORKDAY.INTL(N11,1,V11,'Resmi Tatiller'!$A$2:$A$17),WORKDAY.INTL(N11-1,1,V11,'Resmi Tatiller'!$A$2:$A$17)),IF($AD11="2 Vardiya",IF(O11<TIME(6,0,0),N11-1,IF(O11<TIME(8,0,0),WORKDAY.INTL(N11-1,1,V11,'Resmi Tatiller'!$A$2:$A$17),N11)),IF(O11>=TIME(18,0,0),WORKDAY.INTL(N11,1,V11,'Resmi Tatiller'!$A$2:$A$17),WORKDAY.INTL(N11-1,1,V11,'Resmi Tatiller'!$A$2:$A$17)))))) | X11: =IF(W11="","",IF($AD11="24 Saat",MOD(O11,1)*1440,IF($AD11="12 Saat",IF(W11<>N11,0,IF(O11<TIME(8,0,0),0,IF(O11<TIME(12,0,0),(O11-TIME(8,0,0))*1440,IF(O11<TIME(12,45,0),240,IF(O11<TIME(15,0,0),240+(O11-TIME(12,45,0))*1440,IF(O11<TIME(15,15,0),375,IF(O11<TIME(20,0,0),375+(O11-TIME(15,15,0))*1440,0))))))),IF($AD11="2 Vardiya",IF(O11<TIME(6,0,0),IF(O11<TIME(0,45,0),780,IF(O11<TIME(3,0,0),780+(O11-TIME(0,45,0))*1440,IF(O11<TIME(3,15,0),915,915+(O11-TIME(3,15,0))*1440))),IF(O11<TIME(8,0,0),0,IF(O11<TIME(12,0,0),(O11-TIME(8,0,0))*1440,IF(O11<TIME(12,45,0),240,IF(O11<TIME(15,0,0),240+(O11-TIME(12,45,0))*1440,IF(O11<TIME(15,15,0),375,IF(O11<TIME(18,0,0),375+(O11-TIME(15,15,0))*1440,IF(O11<TIME(20,0,0),540,540+(O11-TIME(20,0,0))*1440)))))))),IF(W11<>N11,0,IF(O11<TIME(8,0,0),0,IF(O11<TIME(12,0,0),(O11-TIME(8,0,0))*1440,IF(O11<TIME(12,45,0),240,IF(O11<TIME(15,0,0),240+(O11-TIME(12,45,0))*1440,IF(O11<TIME(15,15,0),375,IF(O11<TIME(18,0,0),375+(O11-TIME(15,15,0))*1440,0))))))))))) | Y11: =IF(P11="","",ROUNDUP(P11*60,0)) | Z11: =IF(Y11="","",N(X11)+Y11) | AA11: =IF(OR(Z11="",U11="",U11=0),"",INT((Z11-1)/U11)) | AB11: =IF(OR(Z11="",U11="",U11=0),"",MOD(Z11-1,U11)+1) | AC11: =IF(AB11="","",R11+S11) | AD11: =IF($I11="","",IF(VALUE($I11)=10,"Gündüz",IF(VALUE($I11)=12,"12 Saat",IF(VALUE($I11)=24,"2 Vardiya","")))) -> Gündüz | AE11: =IF(B11="","",IF(AC10="","",AC10+1/24)) | AF11: =IF(AE11="","",INT(AE11)) | AG11: =IF(AE11="","",MOD(AE11,1)) | AH11: =IF(AF11="","",WORKDAY.INTL(AF11-1,1,V11,'Resmi Tatiller'!$A$2:$A$17)) | AI11: =IF(AE11="","",IF($AD11="24 Saat",AE11,IF($AD11="Gündüz",AJ11,IF($AD11="12 Saat",AK11,IF($AD11="2 Vardiya",AL11,AE11))))) | AJ11: =IF(AE11="","",IF(AH11<>AF11,AH11+TIME(8,0,0),IF(AG11<TIME(8,0,0),AF11+TIME(8,0,0),IF(AG11<TIME(12,0,0),AE11,IF(AG11<TIME(12,45,0),AF11+TIME(12,45,0),IF(AG11<TIME(15,0,0),AE11,IF(AG11<TIME(15,15,0),AF11+TIME(15,15,0),IF(AG11<TIME(18,0,0),AE11,WORKDAY.INTL(AF11,1,V11,'Resmi Tatiller'!$A$2:$A$17)+TIME(8,0,0))))))))) | AK11: =IF(AE11="","",IF(AH11<>AF11,AH11+TIME(8,0,0),IF(AG11<TIME(8,0,0),AF11+TIME(8,0,0),IF(AG11<TIME(12,0,0),AE11,IF(AG11<TIME(12,45,0),AF11+TIME(12,45,0),IF(AG11<TIME(15,0,0),AE11,IF(AG11<TIME(15,15,0),AF11+TIME(15,15,0),IF(AG11<TIME(20,0,0),AE11,WORKDAY.INTL(AF11,1,V11,'Resmi Tatiller'!$A$2:$A$17)+TIME(8,0,0))))))))) | AL11: =IF(AE11="","",IF(AG11<TIME(6,0,0),IF(AG11<TIME(0,45,0),AF11+TIME(0,45,0),IF(AG11<TIME(3,0,0),AE11,IF(AG11<TIME(3,15,0),AF11+TIME(3,15,0),AE11))),IF(AG11<TIME(8,0,0),AF11+TIME(8,0,0),IF(AG11<TIME(12,0,0),AE11,IF(AG11<TIME(12,45,0),AF11+TIME(12,45,0),IF(AG11<TIME(15,0,0),AE11,IF(AG11<TIME(15,15,0),AF11+TIME(15,15,0),IF(AG11<TIME(18,0,0),AE11,IF(AG11<TIME(20,0,0),AF11+TIME(20,0,0),IF(AH11<>AF11,AH11+TIME(8,0,0),AE11))))))))))
A12: =IF($B12="","",ROW()-2) | C12: =IFERROR(VLOOKUP(B12,'Ürün Veri'!$A:$E,2,FALSE),"") | D12: =IFERROR(VLOOKUP(B12,'Ürün Veri'!$A:$E,3,FALSE),"") | E12: =IFERROR(VLOOKUP(B12,'Ürün Veri'!$A:$E,4,FALSE),"") | F12: =IFERROR(VLOOKUP(B12,'Ürün Veri'!$A:$E,5,FALSE),"") | I12: 10 | J12: =IF($I12="","",IF(VALUE($I12)=24,90,45)) -> 45 | K12: =IF($I12="","",IF(VALUE($I12)=24,30,15)) -> 15 | L12: =IF($I12="","",VALUE($I12)-($J12+$K12)/60) -> 9 | M12: Çalışmaz | N12: =IF(AI12="","",INT(AI12)) | O12: =IF(AI12="","",MOD(AI12,1)) | P12: =IF(OR(E12="",F12="",G12="",E12=0),"",G12/E12*F12/3600) | Q12: =IF(OR(P12="",L12="",L12=0),"",P12/L12) | R12: =IF(AB12="","",WORKDAY.INTL(W12,AA12,V12,'Resmi Tatiller'!$A$2:$A$17)) | S12: =IF(AB12="","",IF($AD12="24 Saat",AB12/1440,IF($AD12="12 Saat",IF(AB12<=240,TIME(8,0,0)+AB12/1440,IF(AB12<=375,TIME(12,45,0)+(AB12-240)/1440,TIME(15,15,0)+(AB12-375)/1440)),IF($AD12="2 Vardiya",IF(AB12<=240,TIME(8,0,0)+AB12/1440,IF(AB12<=375,TIME(12,45,0)+(AB12-240)/1440,IF(AB12<=540,TIME(15,15,0)+(AB12-375)/1440,IF(AB12<=780,TIME(20,0,0)+(AB12-540)/1440,IF(AB12<=915,1+TIME(0,45,0)+(AB12-780)/1440,1+TIME(3,15,0)+(AB12-915)/1440))))),IF(AB12<=240,TIME(8,0,0)+AB12/1440,IF(AB12<=375,TIME(12,45,0)+(AB12-240)/1440,TIME(15,15,0)+(AB12-375)/1440)))))) | T12: =IF(B12="","Boş",IF(OR(G12="",N12="",O12=""),"Eksik",IF(OR(R12="",S12=""),"Kontrol","Planlandı"))) -> Boş | U12: =IF($AD12="24 Saat",1440,IF($AD12="2 Vardiya",1080,IF($AD12="12 Saat",660,IF($AD12="Gündüz",540,IF(L12="","",L12*60))))) -> 540 | V12: =IF(M12="Çalışmaz","0000011","0000000") -> 0000011 | W12: =IF(OR(N12="",O12=""),"",IF($AD12="24 Saat",N12,IF($AD12="12 Saat",IF(O12>=TIME(20,0,0),WORKDAY.INTL(N12,1,V12,'Resmi Tatiller'!$A$2:$A$17),WORKDAY.INTL(N12-1,1,V12,'Resmi Tatiller'!$A$2:$A$17)),IF($AD12="2 Vardiya",IF(O12<TIME(6,0,0),N12-1,IF(O12<TIME(8,0,0),WORKDAY.INTL(N12-1,1,V12,'Resmi Tatiller'!$A$2:$A$17),N12)),IF(O12>=TIME(18,0,0),WORKDAY.INTL(N12,1,V12,'Resmi Tatiller'!$A$2:$A$17),WORKDAY.INTL(N12-1,1,V12,'Resmi Tatiller'!$A$2:$A$17)))))) | X12: =IF(W12="","",IF($AD12="24 Saat",MOD(O12,1)*1440,IF($AD12="12 Saat",IF(W12<>N12,0,IF(O12<TIME(8,0,0),0,IF(O12<TIME(12,0,0),(O12-TIME(8,0,0))*1440,IF(O12<TIME(12,45,0),240,IF(O12<TIME(15,0,0),240+(O12-TIME(12,45,0))*1440,IF(O12<TIME(15,15,0),375,IF(O12<TIME(20,0,0),375+(O12-TIME(15,15,0))*1440,0))))))),IF($AD12="2 Vardiya",IF(O12<TIME(6,0,0),IF(O12<TIME(0,45,0),780,IF(O12<TIME(3,0,0),780+(O12-TIME(0,45,0))*1440,IF(O12<TIME(3,15,0),915,915+(O12-TIME(3,15,0))*1440))),IF(O12<TIME(8,0,0),0,IF(O12<TIME(12,0,0),(O12-TIME(8,0,0))*1440,IF(O12<TIME(12,45,0),240,IF(O12<TIME(15,0,0),240+(O12-TIME(12,45,0))*1440,IF(O12<TIME(15,15,0),375,IF(O12<TIME(18,0,0),375+(O12-TIME(15,15,0))*1440,IF(O12<TIME(20,0,0),540,540+(O12-TIME(20,0,0))*1440)))))))),IF(W12<>N12,0,IF(O12<TIME(8,0,0),0,IF(O12<TIME(12,0,0),(O12-TIME(8,0,0))*1440,IF(O12<TIME(12,45,0),240,IF(O12<TIME(15,0,0),240+(O12-TIME(12,45,0))*1440,IF(O12<TIME(15,15,0),375,IF(O12<TIME(18,0,0),375+(O12-TIME(15,15,0))*1440,0))))))))))) | Y12: =IF(P12="","",ROUNDUP(P12*60,0)) | Z12: =IF(Y12="","",N(X12)+Y12) | AA12: =IF(OR(Z12="",U12="",U12=0),"",INT((Z12-1)/U12)) | AB12: =IF(OR(Z12="",U12="",U12=0),"",MOD(Z12-1,U12)+1) | AC12: =IF(AB12="","",R12+S12) | AD12: =IF($I12="","",IF(VALUE($I12)=10,"Gündüz",IF(VALUE($I12)=12,"12 Saat",IF(VALUE($I12)=24,"2 Vardiya","")))) -> Gündüz | AE12: =IF(B12="","",IF(AC11="","",AC11+1/24)) | AF12: =IF(AE12="","",INT(AE12)) | AG12: =IF(AE12="","",MOD(AE12,1)) | AH12: =IF(AF12="","",WORKDAY.INTL(AF12-1,1,V12,'Resmi Tatiller'!$A$2:$A$17)) | AI12: =IF(AE12="","",IF($AD12="24 Saat",AE12,IF($AD12="Gündüz",AJ12,IF($AD12="12 Saat",AK12,IF($AD12="2 Vardiya",AL12,AE12))))) | AJ12: =IF(AE12="","",IF(AH12<>AF12,AH12+TIME(8,0,0),IF(AG12<TIME(8,0,0),AF12+TIME(8,0,0),IF(AG12<TIME(12,0,0),AE12,IF(AG12<TIME(12,45,0),AF12+TIME(12,45,0),IF(AG12<TIME(15,0,0),AE12,IF(AG12<TIME(15,15,0),AF12+TIME(15,15,0),IF(AG12<TIME(18,0,0),AE12,WORKDAY.INTL(AF12,1,V12,'Resmi Tatiller'!$A$2:$A$17)+TIME(8,0,0))))))))) | AK12: =IF(AE12="","",IF(AH12<>AF12,AH12+TIME(8,0,0),IF(AG12<TIME(8,0,0),AF12+TIME(8,0,0),IF(AG12<TIME(12,0,0),AE12,IF(AG12<TIME(12,45,0),AF12+TIME(12,45,0),IF(AG12<TIME(15,0,0),AE12,IF(AG12<TIME(15,15,0),AF12+TIME(15,15,0),IF(AG12<TIME(20,0,0),AE12,WORKDAY.INTL(AF12,1,V12,'Resmi Tatiller'!$A$2:$A$17)+TIME(8,0,0))))))))) | AL12: =IF(AE12="","",IF(AG12<TIME(6,0,0),IF(AG12<TIME(0,45,0),AF12+TIME(0,45,0),IF(AG12<TIME(3,0,0),AE12,IF(AG12<TIME(3,15,0),AF12+TIME(3,15,0),AE12))),IF(AG12<TIME(8,0,0),AF12+TIME(8,0,0),IF(AG12<TIME(12,0,0),AE12,IF(AG12<TIME(12,45,0),AF12+TIME(12,45,0),IF(AG12<TIME(15,0,0),AE12,IF(AG12<TIME(15,15,0),AF12+TIME(15,15,0),IF(AG12<TIME(18,0,0),AE12,IF(AG12<TIME(20,0,0),AF12+TIME(20,0,0),IF(AH12<>AF12,AH12+TIME(8,0,0),AE12))))))))))
A13: =IF($B13="","",ROW()-2) | C13: =IFERROR(VLOOKUP(B13,'Ürün Veri'!$A:$E,2,FALSE),"") | D13: =IFERROR(VLOOKUP(B13,'Ürün Veri'!$A:$E,3,FALSE),"") | E13: =IFERROR(VLOOKUP(B13,'Ürün Veri'!$A:$E,4,FALSE),"") | F13: =IFERROR(VLOOKUP(B13,'Ürün Veri'!$A:$E,5,FALSE),"") | I13: 10 | J13: =IF($I13="","",IF(VALUE($I13)=24,90,45)) -> 45 | K13: =IF($I13="","",IF(VALUE($I13)=24,30,15)) -> 15 | L13: =IF($I13="","",VALUE($I13)-($J13+$K13)/60) -> 9 | M13: Çalışmaz | N13: =IF(AI13="","",INT(AI13)) | O13: =IF(AI13="","",MOD(AI13,1)) | P13: =IF(OR(E13="",F13="",G13="",E13=0),"",G13/E13*F13/3600) | Q13: =IF(OR(P13="",L13="",L13=0),"",P13/L13) | R13: =IF(AB13="","",WORKDAY.INTL(W13,AA13,V13,'Resmi Tatiller'!$A$2:$A$17)) | S13: =IF(AB13="","",IF($AD13="24 Saat",AB13/1440,IF($AD13="12 Saat",IF(AB13<=240,TIME(8,0,0)+AB13/1440,IF(AB13<=375,TIME(12,45,0)+(AB13-240)/1440,TIME(15,15,0)+(AB13-375)/1440)),IF($AD13="2 Vardiya",IF(AB13<=240,TIME(8,0,0)+AB13/1440,IF(AB13<=375,TIME(12,45,0)+(AB13-240)/1440,IF(AB13<=540,TIME(15,15,0)+(AB13-375)/1440,IF(AB13<=780,TIME(20,0,0)+(AB13-540)/1440,IF(AB13<=915,1+TIME(0,45,0)+(AB13-780)/1440,1+TIME(3,15,0)+(AB13-915)/1440))))),IF(AB13<=240,TIME(8,0,0)+AB13/1440,IF(AB13<=375,TIME(12,45,0)+(AB13-240)/1440,TIME(15,15,0)+(AB13-375)/1440)))))) | T13: =IF(B13="","Boş",IF(OR(G13="",N13="",O13=""),"Eksik",IF(OR(R13="",S13=""),"Kontrol","Planlandı"))) -> Boş | U13: =IF($AD13="24 Saat",1440,IF($AD13="2 Vardiya",1080,IF($AD13="12 Saat",660,IF($AD13="Gündüz",540,IF(L13="","",L13*60))))) -> 540 | V13: =IF(M13="Çalışmaz","0000011","0000000") -> 0000011 | W13: =IF(OR(N13="",O13=""),"",IF($AD13="24 Saat",N13,IF($AD13="12 Saat",IF(O13>=TIME(20,0,0),WORKDAY.INTL(N13,1,V13,'Resmi Tatiller'!$A$2:$A$17),WORKDAY.INTL(N13-1,1,V13,'Resmi Tatiller'!$A$2:$A$17)),IF($AD13="2 Vardiya",IF(O13<TIME(6,0,0),N13-1,IF(O13<TIME(8,0,0),WORKDAY.INTL(N13-1,1,V13,'Resmi Tatiller'!$A$2:$A$17),N13)),IF(O13>=TIME(18,0,0),WORKDAY.INTL(N13,1,V13,'Resmi Tatiller'!$A$2:$A$17),WORKDAY.INTL(N13-1,1,V13,'Resmi Tatiller'!$A$2:$A$17)))))) | X13: =IF(W13="","",IF($AD13="24 Saat",MOD(O13,1)*1440,IF($AD13="12 Saat",IF(W13<>N13,0,IF(O13<TIME(8,0,0),0,IF(O13<TIME(12,0,0),(O13-TIME(8,0,0))*1440,IF(O13<TIME(12,45,0),240,IF(O13<TIME(15,0,0),240+(O13-TIME(12,45,0))*1440,IF(O13<TIME(15,15,0),375,IF(O13<TIME(20,0,0),375+(O13-TIME(15,15,0))*1440,0))))))),IF($AD13="2 Vardiya",IF(O13<TIME(6,0,0),IF(O13<TIME(0,45,0),780,IF(O13<TIME(3,0,0),780+(O13-TIME(0,45,0))*1440,IF(O13<TIME(3,15,0),915,915+(O13-TIME(3,15,0))*1440))),IF(O13<TIME(8,0,0),0,IF(O13<TIME(12,0,0),(O13-TIME(8,0,0))*1440,IF(O13<TIME(12,45,0),240,IF(O13<TIME(15,0,0),240+(O13-TIME(12,45,0))*1440,IF(O13<TIME(15,15,0),375,IF(O13<TIME(18,0,0),375+(O13-TIME(15,15,0))*1440,IF(O13<TIME(20,0,0),540,540+(O13-TIME(20,0,0))*1440)))))))),IF(W13<>N13,0,IF(O13<TIME(8,0,0),0,IF(O13<TIME(12,0,0),(O13-TIME(8,0,0))*1440,IF(O13<TIME(12,45,0),240,IF(O13<TIME(15,0,0),240+(O13-TIME(12,45,0))*1440,IF(O13<TIME(15,15,0),375,IF(O13<TIME(18,0,0),375+(O13-TIME(15,15,0))*1440,0))))))))))) | Y13: =IF(P13="","",ROUNDUP(P13*60,0)) | Z13: =IF(Y13="","",N(X13)+Y13) | AA13: =IF(OR(Z13="",U13="",U13=0),"",INT((Z13-1)/U13)) | AB13: =IF(OR(Z13="",U13="",U13=0),"",MOD(Z13-1,U13)+1) | AC13: =IF(AB13="","",R13+S13) | AD13: =IF($I13="","",IF(VALUE($I13)=10,"Gündüz",IF(VALUE($I13)=12,"12 Saat",IF(VALUE($I13)=24,"2 Vardiya","")))) -> Gündüz | AE13: =IF(B13="","",IF(AC12="","",AC12+1/24)) | AF13: =IF(AE13="","",INT(AE13)) | AG13: =IF(AE13="","",MOD(AE13,1)) | AH13: =IF(AF13="","",WORKDAY.INTL(AF13-1,1,V13,'Resmi Tatiller'!$A$2:$A$17)) | AI13: =IF(AE13="","",IF($AD13="24 Saat",AE13,IF($AD13="Gündüz",AJ13,IF($AD13="12 Saat",AK13,IF($AD13="2 Vardiya",AL13,AE13))))) | AJ13: =IF(AE13="","",IF(AH13<>AF13,AH13+TIME(8,0,0),IF(AG13<TIME(8,0,0),AF13+TIME(8,0,0),IF(AG13<TIME(12,0,0),AE13,IF(AG13<TIME(12,45,0),AF13+TIME(12,45,0),IF(AG13<TIME(15,0,0),AE13,IF(AG13<TIME(15,15,0),AF13+TIME(15,15,0),IF(AG13<TIME(18,0,0),AE13,WORKDAY.INTL(AF13,1,V13,'Resmi Tatiller'!$A$2:$A$17)+TIME(8,0,0))))))))) | AK13: =IF(AE13="","",IF(AH13<>AF13,AH13+TIME(8,0,0),IF(AG13<TIME(8,0,0),AF13+TIME(8,0,0),IF(AG13<TIME(12,0,0),AE13,IF(AG13<TIME(12,45,0),AF13+TIME(12,45,0),IF(AG13<TIME(15,0,0),AE13,IF(AG13<TIME(15,15,0),AF13+TIME(15,15,0),IF(AG13<TIME(20,0,0),AE13,WORKDAY.INTL(AF13,1,V13,'Resmi Tatiller'!$A$2:$A$17)+TIME(8,0,0))))))))) | AL13: =IF(AE13="","",IF(AG13<TIME(6,0,0),IF(AG13<TIME(0,45,0),AF13+TIME(0,45,0),IF(AG13<TIME(3,0,0),AE13,IF(AG13<TIME(3,15,0),AF13+TIME(3,15,0),AE13))),IF(AG13<TIME(8,0,0),AF13+TIME(8,0,0),IF(AG13<TIME(12,0,0),AE13,IF(AG13<TIME(12,45,0),AF13+TIME(12,45,0),IF(AG13<TIME(15,0,0),AE13,IF(AG13<TIME(15,15,0),AF13+TIME(15,15,0),IF(AG13<TIME(18,0,0),AE13,IF(AG13<TIME(20,0,0),AF13+TIME(20,0,0),IF(AH13<>AF13,AH13+TIME(8,0,0),AE13))))))))))
A14: =IF($B14="","",ROW()-2) | C14: =IFERROR(VLOOKUP(B14,'Ürün Veri'!$A:$E,2,FALSE),"") | D14: =IFERROR(VLOOKUP(B14,'Ürün Veri'!$A:$E,3,FALSE),"") | E14: =IFERROR(VLOOKUP(B14,'Ürün Veri'!$A:$E,4,FALSE),"") | F14: =IFERROR(VLOOKUP(B14,'Ürün Veri'!$A:$E,5,FALSE),"") | I14: 10 | J14: =IF($I14="","",IF(VALUE($I14)=24,90,45)) -> 45 | K14: =IF($I14="","",IF(VALUE($I14)=24,30,15)) -> 15 | L14: =IF($I14="","",VALUE($I14)-($J14+$K14)/60) -> 9 | M14: Çalışmaz | N14: =IF(AI14="","",INT(AI14)) | O14: =IF(AI14="","",MOD(AI14,1)) | P14: =IF(OR(E14="",F14="",G14="",E14=0),"",G14/E14*F14/3600) | Q14: =IF(OR(P14="",L14="",L14=0),"",P14/L14) | R14: =IF(AB14="","",WORKDAY.INTL(W14,AA14,V14,'Resmi Tatiller'!$A$2:$A$17)) | S14: =IF(AB14="","",IF($AD14="24 Saat",AB14/1440,IF($AD14="12 Saat",IF(AB14<=240,TIME(8,0,0)+AB14/1440,IF(AB14<=375,TIME(12,45,0)+(AB14-240)/1440,TIME(15,15,0)+(AB14-375)/1440)),IF($AD14="2 Vardiya",IF(AB14<=240,TIME(8,0,0)+AB14/1440,IF(AB14<=375,TIME(12,45,0)+(AB14-240)/1440,IF(AB14<=540,TIME(15,15,0)+(AB14-375)/1440,IF(AB14<=780,TIME(20,0,0)+(AB14-540)/1440,IF(AB14<=915,1+TIME(0,45,0)+(AB14-780)/1440,1+TIME(3,15,0)+(AB14-915)/1440))))),IF(AB14<=240,TIME(8,0,0)+AB14/1440,IF(AB14<=375,TIME(12,45,0)+(AB14-240)/1440,TIME(15,15,0)+(AB14-375)/1440)))))) | T14: =IF(B14="","Boş",IF(OR(G14="",N14="",O14=""),"Eksik",IF(OR(R14="",S14=""),"Kontrol","Planlandı"))) -> Boş | U14: =IF($AD14="24 Saat",1440,IF($AD14="2 Vardiya",1080,IF($AD14="12 Saat",660,IF($AD14="Gündüz",540,IF(L14="","",L14*60))))) -> 540 | V14: =IF(M14="Çalışmaz","0000011","0000000") -> 0000011 | W14: =IF(OR(N14="",O14=""),"",IF($AD14="24 Saat",N14,IF($AD14="12 Saat",IF(O14>=TIME(20,0,0),WORKDAY.INTL(N14,1,V14,'Resmi Tatiller'!$A$2:$A$17),WORKDAY.INTL(N14-1,1,V14,'Resmi Tatiller'!$A$2:$A$17)),IF($AD14="2 Vardiya",IF(O14<TIME(6,0,0),N14-1,IF(O14<TIME(8,0,0),WORKDAY.INTL(N14-1,1,V14,'Resmi Tatiller'!$A$2:$A$17),N14)),IF(O14>=TIME(18,0,0),WORKDAY.INTL(N14,1,V14,'Resmi Tatiller'!$A$2:$A$17),WORKDAY.INTL(N14-1,1,V14,'Resmi Tatiller'!$A$2:$A$17)))))) | X14: =IF(W14="","",IF($AD14="24 Saat",MOD(O14,1)*1440,IF($AD14="12 Saat",IF(W14<>N14,0,IF(O14<TIME(8,0,0),0,IF(O14<TIME(12,0,0),(O14-TIME(8,0,0))*1440,IF(O14<TIME(12,45,0),240,IF(O14<TIME(15,0,0),240+(O14-TIME(12,45,0))*1440,IF(O14<TIME(15,15,0),375,IF(O14<TIME(20,0,0),375+(O14-TIME(15,15,0))*1440,0))))))),IF($AD14="2 Vardiya",IF(O14<TIME(6,0,0),IF(O14<TIME(0,45,0),780,IF(O14<TIME(3,0,0),780+(O14-TIME(0,45,0))*1440,IF(O14<TIME(3,15,0),915,915+(O14-TIME(3,15,0))*1440))),IF(O14<TIME(8,0,0),0,IF(O14<TIME(12,0,0),(O14-TIME(8,0,0))*1440,IF(O14<TIME(12,45,0),240,IF(O14<TIME(15,0,0),240+(O14-TIME(12,45,0))*1440,IF(O14<TIME(15,15,0),375,IF(O14<TIME(18,0,0),375+(O14-TIME(15,15,0))*1440,IF(O14<TIME(20,0,0),540,540+(O14-TIME(20,0,0))*1440)))))))),IF(W14<>N14,0,IF(O14<TIME(8,0,0),0,IF(O14<TIME(12,0,0),(O14-TIME(8,0,0))*1440,IF(O14<TIME(12,45,0),240,IF(O14<TIME(15,0,0),240+(O14-TIME(12,45,0))*1440,IF(O14<TIME(15,15,0),375,IF(O14<TIME(18,0,0),375+(O14-TIME(15,15,0))*1440,0))))))))))) | Y14: =IF(P14="","",ROUNDUP(P14*60,0)) | Z14: =IF(Y14="","",N(X14)+Y14) | AA14: =IF(OR(Z14="",U14="",U14=0),"",INT((Z14-1)/U14)) | AB14: =IF(OR(Z14="",U14="",U14=0),"",MOD(Z14-1,U14)+1) | AC14: =IF(AB14="","",R14+S14) | AD14: =IF($I14="","",IF(VALUE($I14)=10,"Gündüz",IF(VALUE($I14)=12,"12 Saat",IF(VALUE($I14)=24,"2 Vardiya","")))) -> Gündüz | AE14: =IF(B14="","",IF(AC13="","",AC13+1/24)) | AF14: =IF(AE14="","",INT(AE14)) | AG14: =IF(AE14="","",MOD(AE14,1)) | AH14: =IF(AF14="","",WORKDAY.INTL(AF14-1,1,V14,'Resmi Tatiller'!$A$2:$A$17)) | AI14: =IF(AE14="","",IF($AD14="24 Saat",AE14,IF($AD14="Gündüz",AJ14,IF($AD14="12 Saat",AK14,IF($AD14="2 Vardiya",AL14,AE14))))) | AJ14: =IF(AE14="","",IF(AH14<>AF14,AH14+TIME(8,0,0),IF(AG14<TIME(8,0,0),AF14+TIME(8,0,0),IF(AG14<TIME(12,0,0),AE14,IF(AG14<TIME(12,45,0),AF14+TIME(12,45,0),IF(AG14<TIME(15,0,0),AE14,IF(AG14<TIME(15,15,0),AF14+TIME(15,15,0),IF(AG14<TIME(18,0,0),AE14,WORKDAY.INTL(AF14,1,V14,'Resmi Tatiller'!$A$2:$A$17)+TIME(8,0,0))))))))) | AK14: =IF(AE14="","",IF(AH14<>AF14,AH14+TIME(8,0,0),IF(AG14<TIME(8,0,0),AF14+TIME(8,0,0),IF(AG14<TIME(12,0,0),AE14,IF(AG14<TIME(12,45,0),AF14+TIME(12,45,0),IF(AG14<TIME(15,0,0),AE14,IF(AG14<TIME(15,15,0),AF14+TIME(15,15,0),IF(AG14<TIME(20,0,0),AE14,WORKDAY.INTL(AF14,1,V14,'Resmi Tatiller'!$A$2:$A$17)+TIME(8,0,0))))))))) | AL14: =IF(AE14="","",IF(AG14<TIME(6,0,0),IF(AG14<TIME(0,45,0),AF14+TIME(0,45,0),IF(AG14<TIME(3,0,0),AE14,IF(AG14<TIME(3,15,0),AF14+TIME(3,15,0),AE14))),IF(AG14<TIME(8,0,0),AF14+TIME(8,0,0),IF(AG14<TIME(12,0,0),AE14,IF(AG14<TIME(12,45,0),AF14+TIME(12,45,0),IF(AG14<TIME(15,0,0),AE14,IF(AG14<TIME(15,15,0),AF14+TIME(15,15,0),IF(AG14<TIME(18,0,0),AE14,IF(AG14<TIME(20,0,0),AF14+TIME(20,0,0),IF(AH14<>AF14,AH14+TIME(8,0,0),AE14))))))))))
